BEGIN:VCALENDAR
VERSION:2.0
PRODID:-//Tai Chi Health - ECPv6.15.20//NONSGML v1.0//EN
CALSCALE:GREGORIAN
METHOD:PUBLISH
X-WR-CALNAME:Tai Chi Health
X-ORIGINAL-URL:https://taichihealth.com
X-WR-CALDESC:Events for Tai Chi Health
REFRESH-INTERVAL;VALUE=DURATION:PT1H
X-Robots-Tag:noindex
X-PUBLISHED-TTL:PT1H
BEGIN:VTIMEZONE
TZID:America/Chicago
BEGIN:DAYLIGHT
TZOFFSETFROM:-0600
TZOFFSETTO:-0500
TZNAME:CDT
DTSTART:20240310T080000
END:DAYLIGHT
BEGIN:STANDARD
TZOFFSETFROM:-0500
TZOFFSETTO:-0600
TZNAME:CST
DTSTART:20241103T070000
END:STANDARD
BEGIN:DAYLIGHT
TZOFFSETFROM:-0600
TZOFFSETTO:-0500
TZNAME:CDT
DTSTART:20250309T080000
END:DAYLIGHT
BEGIN:STANDARD
TZOFFSETFROM:-0500
TZOFFSETTO:-0600
TZNAME:CST
DTSTART:20251102T070000
END:STANDARD
BEGIN:DAYLIGHT
TZOFFSETFROM:-0600
TZOFFSETTO:-0500
TZNAME:CDT
DTSTART:20260308T080000
END:DAYLIGHT
BEGIN:STANDARD
TZOFFSETFROM:-0500
TZOFFSETTO:-0600
TZNAME:CST
DTSTART:20261101T070000
END:STANDARD
END:VTIMEZONE
BEGIN:VEVENT
DTSTART;TZID=America/Chicago:20250510T090000
DTEND;TZID=America/Chicago:20250510T164500
DTSTAMP:20260421T050047
CREATED:20241114T190210Z
LAST-MODIFIED:20241220T013948Z
UID:8966-1746867600-1746895500@taichihealth.com
SUMMARY:TCF Movement Intensive: Certification Preparation - 6 hours
DESCRIPTION:Instructor: Patricia Corrigan Culotti\nPrerequisites: Previous experience in Tai Chi Fundamentals® or Yang Style Cheng Man-Ch’ing Lineage Form.\nFormat: Hybrid (in person in Milwaukee\, WI or virtually over Zoom) \nWPTA CEU-Approved for 6 Contact hours \nRegister for this Intensive \nCost: $180 if registering by April 30th (early bird rate). $200 after April 30th. \nRegistration closes May 5th. Please contact us if you are interested in registering after that date. \nIntensive Description: Ideal for Tai Chi Fundamentals® (TCF) certification preparation and for keeping certification current in both the TCF Adapted Program and Original TCF Program. Great training for class instructors\, for health professionals applying TCF therapeutically in their practice\, and for enriching your personal tai chi practice. \nFocus: Review and refine TCF Basic Moves and Form for either the TCF Adapted or Original TCF Programs. Includes teaching skills development\, movement analysis\, functional applications\, and Mind/Body Skills training in breathing\, relaxation\, sensing qi (vital energy)\, and visualization. Also includes coaching in constructive feedback and helping students improve their postural alignment. Licensed health professionals can document all program elements for reimbursement. Basic Moves\, Original TCF Form and sensing qi exercises are included in the Tai Chi Fundamentals® Patient Handout Software database available at Visual Health Information: http://www.vhikits.com/products/collections/TaiChi/TaiChi.aspx
URL:https://taichihealth.com/event/tcf-movement-intensive-certification-preparation-6-hours-may-25/
LOCATION:Milwaukee Area\, WI and Virtual
CATEGORIES:Tai Chi Fundamentals® Intensives
END:VEVENT
BEGIN:VEVENT
DTSTART;TZID=America/Chicago:20250514T173000
DTEND;TZID=America/Chicago:20250514T203000
DTSTAMP:20260421T050047
CREATED:20250425T152840Z
LAST-MODIFIED:20250425T152840Z
UID:11121-1747243800-1747254600@taichihealth.com
SUMMARY:Yang Style Tai Chi Movement Intensive\, Milwaukee Wisconsin
DESCRIPTION:Instructor: Patricia Culotti\, MTF Instructor \nPrerequisites: Previous experience in Cheng Man-Ch’ing Yang Style Tai Chi \nCost: $95 \nCourse Description: Review and refine form sequences of your choice. May include small group and individual practice. Learn exercises for cultivating flexibility\, strength\, relaxed awareness\, and skill in sensing qi during form practice. Applications: every breath\, gesture\, and situation of life. We explore ideas for self-correction\, two-person work\, and constructive feedback. Ideal for both enriching personal tai chi practice and developing teaching skills. If you are interested in becoming or already are a tai chi teacher\, these are essential trainings. \n\nRegister for this Course directly with the Course Instructor: \n3-Hour Intensives Information and Registration (PDF) \n\n 
URL:https://taichihealth.com/event/yang-style-tai-chi-movement-intensive-milwaukee-wisconsin/
LOCATION:Milwaukee Area\, WI
CATEGORIES:Yang Style Cheng Man Ch'ing Lineage Intensives
END:VEVENT
END:VCALENDAR