BEGIN:VCALENDAR
VERSION:2.0
PRODID:-//Tai Chi Health - ECPv6.15.20//NONSGML v1.0//EN
CALSCALE:GREGORIAN
METHOD:PUBLISH
X-WR-CALNAME:Tai Chi Health
X-ORIGINAL-URL:https://taichihealth.com
X-WR-CALDESC:Events for Tai Chi Health
REFRESH-INTERVAL;VALUE=DURATION:PT1H
X-Robots-Tag:noindex
X-PUBLISHED-TTL:PT1H
BEGIN:VTIMEZONE
TZID:America/Chicago
BEGIN:DAYLIGHT
TZOFFSETFROM:-0600
TZOFFSETTO:-0500
TZNAME:CDT
DTSTART:20240310T080000
END:DAYLIGHT
BEGIN:STANDARD
TZOFFSETFROM:-0500
TZOFFSETTO:-0600
TZNAME:CST
DTSTART:20241103T070000
END:STANDARD
BEGIN:DAYLIGHT
TZOFFSETFROM:-0600
TZOFFSETTO:-0500
TZNAME:CDT
DTSTART:20250309T080000
END:DAYLIGHT
BEGIN:STANDARD
TZOFFSETFROM:-0500
TZOFFSETTO:-0600
TZNAME:CST
DTSTART:20251102T070000
END:STANDARD
BEGIN:DAYLIGHT
TZOFFSETFROM:-0600
TZOFFSETTO:-0500
TZNAME:CDT
DTSTART:20260308T080000
END:DAYLIGHT
BEGIN:STANDARD
TZOFFSETFROM:-0500
TZOFFSETTO:-0600
TZNAME:CST
DTSTART:20261101T070000
END:STANDARD
END:VTIMEZONE
BEGIN:VEVENT
DTSTART;TZID=America/Chicago:20250205T173000
DTEND;TZID=America/Chicago:20250205T203000
DTSTAMP:20260421T084222
CREATED:20241206T170229Z
LAST-MODIFIED:20241206T170413Z
UID:9143-1738776600-1738787400@taichihealth.com
SUMMARY:Yang Style Tai Chi Movement Intensive\, Milwaukee Wisconsin
DESCRIPTION:Instructor: Patricia Culotti\, MTF Instructor \nPrerequisites: Previous experience in Cheng Man-Ch’ing Yang Style Tai Chi \nCost: $95 \nCourse Description: Review and refine form sequences of your choice. May include small group and individual practice. Learn exercises for cultivating flexibility\, strength\, relaxed awareness\, and skill in sensing qi during form practice. Applications: every breath\, gesture\, and situation of life. We explore ideas for self-correction\, two-person work\, and constructive feedback. Ideal for both enriching personal tai chi practice and developing teaching skills. If you are interested in becoming or already are a tai chi teacher\, these are essential trainings. \n\nRegister for this Course directly with the Course Instructor: \n3-Hour Intensives Information and Registration (PDF) \n\n 
URL:https://taichihealth.com/event/yang-style-tai-chi-movement-intensive-feb-2025/
LOCATION:Milwaukee Area\, WI
CATEGORIES:Yang Style Cheng Man Ch'ing Lineage Intensives
END:VEVENT
BEGIN:VEVENT
DTSTART;TZID=America/Chicago:20250208T090000
DTEND;TZID=America/Chicago:20250208T164500
DTSTAMP:20260421T084222
CREATED:20241114T185857Z
LAST-MODIFIED:20241220T014158Z
UID:8939-1739005200-1739033100@taichihealth.com
SUMMARY:TCF Movement Intensive: Certification Preparation - 6 hours
DESCRIPTION:Instructor: Patricia Corrigan Culotti\nPrerequisites: Previous experience in Tai Chi Fundamentals® or Yang Style Cheng Man-Ch’ing Lineage Form.\nFormat: Hybrid (in person in Milwaukee\, WI or virtually over Zoom) \nWPTA CEU-Approved for 6 Contact hours \nRegister for this Intensive\n \nCost: $180 if registering by January 29th (early bird rate). $200 after January 29th. \nRegistration closes February 3rd. Please contact us if you are interested in registering after that date. \nIntensive Description: Ideal for Tai Chi Fundamentals® (TCF) certification preparation and for keeping certification current in both the TCF Adapted Program and Original TCF Program. Great training for class instructors\, for health professionals applying TCF therapeutically in their practice\, and for enriching your personal tai chi practice. \nFocus: Review and refine TCF Basic Moves and Form for either the TCF Adapted or Original TCF Programs. Includes teaching skills development\, movement analysis\, functional applications\, and Mind/Body Skills training in breathing\, relaxation\, sensing qi (vital energy)\, and visualization. Also includes coaching in constructive feedback and helping students improve their postural alignment. Licensed health professionals can document all program elements for reimbursement. Basic Moves\, Original TCF Form and sensing qi exercises are included in the Tai Chi Fundamentals® Patient Handout Software database available at Visual Health Information: http://www.vhikits.com/products/collections/TaiChi/TaiChi.aspx
URL:https://taichihealth.com/event/tcf-movement-intensive-certification-preparation-6-hours-feb-24/
LOCATION:Milwaukee Area\, WI and Virtual
CATEGORIES:Tai Chi Fundamentals® Intensives
END:VEVENT
BEGIN:VEVENT
DTSTART;VALUE=DATE:20250210
DTEND;VALUE=DATE:20250213
DTSTAMP:20260421T084222
CREATED:20241212T200619Z
LAST-MODIFIED:20241220T011636Z
UID:9188-1739145600-1739404799@taichihealth.com
SUMMARY:Course One: TCF Program Basic Moves Training - 15 Hours
DESCRIPTION:Instructor: Jonathan Loesch. \nCEU-Approved for 15 Contact hours\nPrerequisites: None. All levels of experience welcome. \nFormat: This Course will be in-person only. \nThis Course is currently only open to Veterans Affairs employees. General registration may open if there is room to accommodate more attendees. If you are a VA employee interested in this training\, please contact the Course Instructor through the VA system. \nCourse Description: Teaches the Tai Chi Fundamentals® (TCF) Program Basic Moves: Optional Side Support version and the TCF Short Form Part One. Introduces the Walker and Seated versions of the TCF Adapted Program. Features Mind/Body Skills training\, applications for wellness and rehabilitation\, and partner teaching practicums. Includes introduction to the ROM Dance® Program. See the flyer below for the full schedule for this training. \nAt the end of this course\, a TCF Program Basic Moves Certificate of Completion is awarded to participants who have demonstrated the ability to teach Basic Moves. Course qualifies as partial contact hours fulfillment for TCF Instructor Certification. \nThis 3-day course will include all standard Course One training plus additional practice and teaching hours.  \nCourse Objectives\n1) Learn the TCF Program Basic Moves with Side Support.\n2) Teach the TCF Program Basic Moves.\n3) Learn principles of movement adaptation for participants using chairs and walkers.\n4) Describe TCF’s rationale\, biomechanics & functional benefits.\n5) Practice Centering\, Breathing and Posture Awareness exercises.\n6) Practice TCF Adapted Program Short Form\, Part One \nThe Tai Chi Fundamentals Programs are adaptable\, accessible programs for learning tai chi. Suitable for individuals with a wide range of abilities\, they include instruction in three versions: Standing with Optional Side Support\, Walker Support\, and Seated. All program elements can be modified to accommodate individual needs. \nProgram Elements: All movements are taught in a motor development progression and have been modified for practice with optional side support\, walker support\, and seated. All 3 versions include: \n – Basic Moves: a series of exercises that trains postural alignment\, body mechanics\, and energetic components of tai chi. Designed as building blocks for learning tai chi\, they are taught in a simple-to-complex progression with discrete\, measurable increments in difficulty and have applications as assessment and intervention tools. \n – Tai Chi Fundamentals Form: a flowing sequence of tai chi movements based in Yang Style tai chi. \n– Mind/Body Skills Training: integrated into both Basic Moves and TCF Form instruction. Fosters attention and focus; a calm\, observant state of mind; awareness of posture and breathing; and physical relaxation. Characteristic of all traditional tai chi practice\, Mind/Body Skills training helps foster the cultivation of healthy qi\, or vital energy. \nDevelopment: The Original Tai Chi Fundamentals® Program was developed in 1996 by Tricia Yu\, MA and Jill Johnson\, MS\, PT\, targeting elements from traditional tai chi that enhance balance\, coordination\, strength\, and endurance. The Tai Chi Fundamentals® Adapted Program was developed in 2014 by Tricia Yu based on the need for a program that is easier to learn than the original TCF program and that includes modifications for standing with support and seated applications. \nThe TCF Program has been featured in: PT Journal\, Journal of Rehab Management\, The Gerontologist\, APTA’s GeriNotes\, Medline Plus\, Topics in Geriatric Rehabilitation. Journal of Asian Martial Arts\, Wellness Program Management Advisor\, American College of Sports Medicine’s Health and Fitness Journal\, Massage & Bodywork. \n\n 
URL:https://taichihealth.com/event/course-one-tcf-program-basic-moves-training-feb-2025/
LOCATION:St. Louis Area\, MO
CATEGORIES:COURSE ONE: TAI CHI FUNDAMENTALS® ADAPTED PROGRAM BASIC MOVES TRAINING
END:VEVENT
END:VCALENDAR