BEGIN:VCALENDAR
VERSION:2.0
PRODID:-//Tai Chi Health - ECPv6.15.20//NONSGML v1.0//EN
CALSCALE:GREGORIAN
METHOD:PUBLISH
X-ORIGINAL-URL:https://taichihealth.com
X-WR-CALDESC:Events for Tai Chi Health
REFRESH-INTERVAL;VALUE=DURATION:PT1H
X-Robots-Tag:noindex
X-PUBLISHED-TTL:PT1H
BEGIN:VTIMEZONE
TZID:America/Chicago
BEGIN:DAYLIGHT
TZOFFSETFROM:-0600
TZOFFSETTO:-0500
TZNAME:CDT
DTSTART:20230312T080000
END:DAYLIGHT
BEGIN:STANDARD
TZOFFSETFROM:-0500
TZOFFSETTO:-0600
TZNAME:CST
DTSTART:20231105T070000
END:STANDARD
BEGIN:DAYLIGHT
TZOFFSETFROM:-0600
TZOFFSETTO:-0500
TZNAME:CDT
DTSTART:20240310T080000
END:DAYLIGHT
BEGIN:STANDARD
TZOFFSETFROM:-0500
TZOFFSETTO:-0600
TZNAME:CST
DTSTART:20241103T070000
END:STANDARD
BEGIN:DAYLIGHT
TZOFFSETFROM:-0600
TZOFFSETTO:-0500
TZNAME:CDT
DTSTART:20250309T080000
END:DAYLIGHT
BEGIN:STANDARD
TZOFFSETFROM:-0500
TZOFFSETTO:-0600
TZNAME:CST
DTSTART:20251102T070000
END:STANDARD
END:VTIMEZONE
BEGIN:VEVENT
DTSTART;VALUE=DATE:20241101
DTEND;VALUE=DATE:20241103
DTSTAMP:20260421T124057
CREATED:20140702T174907Z
LAST-MODIFIED:20240328T164417Z
UID:4749-1730419200-1730591999@taichihealth.com
SUMMARY:Course Three: Original TCF Form Training - 12 Hours
DESCRIPTION:Instructor: Patricia Corrigan Culotti or Rachel Sandretto\nWPTA-Approved for 12 Contact hours.\nPrerequisites: Participation in Course One. Requires proficiency in elements taught in Course One (formerly called Levels 1-2) \nRegister for this Course\n \nCost: $390\, plus required materials \nCourse Description: Teaches all elements required for the Original Tai Chi Fundamentals® (TCF) Program Certification. Participants learn Parts 2 and 3 of the Original TCF Form and review all Basic Moves. Includes teaching practicums\, techniques for using TCF with specific populations\, advanced training in sensing qi\, and review of Energize exercises. \n\n\n\nThe course includes presentations by certified instructors on program applications in group wellness settings as well as therapeutic assessment and intervention tools. This course qualifies as partial contact hours fulfillment for TCF Instructor Certification. \nCourse flyer with detailed schedule (PDF) \nThe Tai Chi Fundamentals® Program provides a gateway to a Yang Style lineage tai chi and is a bridge between tai chi practice and the medical model. The first program of its kind\, it provides a clear\, systematic approach for mastering tai chi basics that builds from simple to complex patterns of movement. TCF integrates mind/body components of tai chi with clinical overview\, movement analysis\, and therapeutic and functional applications. \n\n\nProgram Elements: movements are taught in a motor development progression and can be modified for use with walkers and wheelchairs. Includes: \n\n\n\n\n – Basic Moves: graded sequence of exercises that reinforce functional movements of tai chi form and include basic elements of qigong training. They have applications both as assessment and intervention tools. \n– Original Tai Chi Fundamentals® Form: a sequence of simple to more complex movements of modified Yang Style Tai Chi. \n– Mind/Body Skills: fostering mind/body integration\, effective movement\, and sense of well-being. \n\n\nDevelopment: in 1996 by Tricia Yu\, MA and Jill Johnson\, MS\, PT\, targeting elements from traditional tai chi that enhance balance\, coordination\, strength\, and endurance. \n\n\n\n\n\n\n\n\nThe TCF Program has been featured in: PT Journal\, Journal of Rehab Management\, The Gerontologist\, APTA’s GeriNotes\, Medline Plus\, Topics in Geriatric Rehabilitation. Journal of Asian Martial Arts\, Wellness Program Management Advisor\, American College of Sports Medicine’s Health and Fitness Journal\, and Massage and Bodywork. \n\n\n\n\n\n\n\n\nCheck back for the full Course schedule.
URL:https://taichihealth.com/event/course-three-original-tcf-form-training-12-hours-november-2024/
LOCATION:Milwaukee Area\, WI and Virtual
CATEGORIES:COURSE THREE: ORIGINAL TAI CHI FUNDAMENTALS® FORM TRAINING
END:VEVENT
BEGIN:VEVENT
DTSTART;TZID=America/Chicago:20241116T090000
DTEND;TZID=America/Chicago:20241116T164500
DTSTAMP:20260421T124057
CREATED:20240328T165252Z
LAST-MODIFIED:20240328T165252Z
UID:6876-1731747600-1731775500@taichihealth.com
SUMMARY:TCF Movement Intensive: Certification Preparation - 6 hours
DESCRIPTION:Instructor: Patricia Corrigan Culotti or Rachel Sandretto\nPrerequisites: Previous experience in Tai Chi Fundamentals® or Yang Style Cheng Man-Ch’ing Lineage Form.\nFormat: Hybrid (in person in Milwaukee\, WI or virtually over Zoom) \nWPTA CEU-Approved for 6 Contact hours \nRegister for this Intensive \nCost: $180 \nIntensive Description: Ideal for Tai Chi Fundamentals® (TCF) certification preparation and for keeping certification current in both the TCF Adapted Program and Original TCF Program. Great training for class instructors\, for health professionals applying TCF therapeutically in their practice\, and for enriching your personal tai chi practice. \nFocus: Review and refine TCF Basic Moves and Form for either the TCF Adapted or Original TCF Programs. Includes teaching skills development\, movement analysis\, functional applications\, and Mind/Body Skills training in breathing\, relaxation\, sensing qi (vital energy)\, and visualization. Also includes coaching in constructive feedback and helping students improve their postural alignment. Licensed health professionals can document all program elements for reimbursement. Basic Moves\, Original TCF Form and sensing qi exercises are included in the Tai Chi Fundamentals® Patient Handout Software database available at Visual Health Information: http://www.vhikits.com/products/collections/TaiChi/TaiChi.aspx
URL:https://taichihealth.com/event/tcf-movement-intensive-certification-preparation-6-hours-3/
LOCATION:Milwaukee Area\, WI and Virtual
CATEGORIES:Tai Chi Fundamentals® Intensives
END:VEVENT
END:VCALENDAR