BEGIN:VCALENDAR
VERSION:2.0
PRODID:-//Tai Chi Health - ECPv6.15.20//NONSGML v1.0//EN
CALSCALE:GREGORIAN
METHOD:PUBLISH
X-ORIGINAL-URL:https://taichihealth.com
X-WR-CALDESC:Events for Tai Chi Health
REFRESH-INTERVAL;VALUE=DURATION:PT1H
X-Robots-Tag:noindex
X-PUBLISHED-TTL:PT1H
BEGIN:VTIMEZONE
TZID:America/Chicago
BEGIN:DAYLIGHT
TZOFFSETFROM:-0600
TZOFFSETTO:-0500
TZNAME:CDT
DTSTART:20230312T080000
END:DAYLIGHT
BEGIN:STANDARD
TZOFFSETFROM:-0500
TZOFFSETTO:-0600
TZNAME:CST
DTSTART:20231105T070000
END:STANDARD
BEGIN:DAYLIGHT
TZOFFSETFROM:-0600
TZOFFSETTO:-0500
TZNAME:CDT
DTSTART:20240310T080000
END:DAYLIGHT
BEGIN:STANDARD
TZOFFSETFROM:-0500
TZOFFSETTO:-0600
TZNAME:CST
DTSTART:20241103T070000
END:STANDARD
BEGIN:DAYLIGHT
TZOFFSETFROM:-0600
TZOFFSETTO:-0500
TZNAME:CDT
DTSTART:20250309T080000
END:DAYLIGHT
BEGIN:STANDARD
TZOFFSETFROM:-0500
TZOFFSETTO:-0600
TZNAME:CST
DTSTART:20251102T070000
END:STANDARD
END:VTIMEZONE
BEGIN:VEVENT
DTSTART;TZID=America/Chicago:20240511T090000
DTEND;TZID=America/Chicago:20240511T164500
DTSTAMP:20260421T211027
CREATED:20240314T210926Z
LAST-MODIFIED:20240314T211041Z
UID:6781-1715418000-1715445900@taichihealth.com
SUMMARY:TCF Movement Intensive: Certification Preparation - 6 hours
DESCRIPTION:Instructor: Patricia Corrigan Culotti or Rachel Sandretto\nPrerequisites: Previous experience in Tai Chi Fundamentals® or Yang Style Cheng Man-Ch’ing Lineage Form.\nFormat: Hybrid (in person and virtual) \nWPTA CEU-Approved for 6 Contact hours \nRegister for this Intensive \nCost: $180 \nIntensive Description: Ideal for Tai Chi Fundamentals® (TCF) certification preparation and for keeping certification current in both the TCF Adapted Program and Original TCF Program. Great training for class instructors\, for health professionals applying TCF therapeutically in their practice\, and for enriching your personal tai chi practice. \nFocus: Review and refine TCF Basic Moves and Form for either the TCF Adapted or Original TCF Programs. Includes teaching skills development\, movement analysis\, functional applications\, and Mind/Body Skills training in breathing\, relaxation\, sensing qi (vital energy)\, and visualization. Also includes coaching in constructive feedback and helping students improve their postural alignment. Licensed health professionals can document all program elements for reimbursement. Basic Moves\, Original TCF Form and sensing qi exercises are included in the Tai Chi Fundamentals® Patient Handout Software database available at Visual Health Information: http://www.vhikits.com/products/collections/TaiChi/TaiChi.aspx
URL:https://taichihealth.com/event/tcf-movement-intensive-certification-preparation-6-hours/
LOCATION:Milwaukee Area\, WI and Virtual
CATEGORIES:Tai Chi Fundamentals® Intensives
END:VEVENT
END:VCALENDAR