BEGIN:VCALENDAR
VERSION:2.0
PRODID:-//Tai Chi Health - ECPv6.15.20//NONSGML v1.0//EN
CALSCALE:GREGORIAN
METHOD:PUBLISH
X-WR-CALNAME:Tai Chi Health
X-ORIGINAL-URL:https://taichihealth.com
X-WR-CALDESC:Events for Tai Chi Health
REFRESH-INTERVAL;VALUE=DURATION:PT1H
X-Robots-Tag:noindex
X-PUBLISHED-TTL:PT1H
BEGIN:VTIMEZONE
TZID:America/Chicago
BEGIN:DAYLIGHT
TZOFFSETFROM:-0600
TZOFFSETTO:-0500
TZNAME:CDT
DTSTART:20220313T080000
END:DAYLIGHT
BEGIN:STANDARD
TZOFFSETFROM:-0500
TZOFFSETTO:-0600
TZNAME:CST
DTSTART:20221106T070000
END:STANDARD
BEGIN:DAYLIGHT
TZOFFSETFROM:-0600
TZOFFSETTO:-0500
TZNAME:CDT
DTSTART:20230312T080000
END:DAYLIGHT
BEGIN:STANDARD
TZOFFSETFROM:-0500
TZOFFSETTO:-0600
TZNAME:CST
DTSTART:20231105T070000
END:STANDARD
BEGIN:DAYLIGHT
TZOFFSETFROM:-0600
TZOFFSETTO:-0500
TZNAME:CDT
DTSTART:20240310T080000
END:DAYLIGHT
BEGIN:STANDARD
TZOFFSETFROM:-0500
TZOFFSETTO:-0600
TZNAME:CST
DTSTART:20241103T070000
END:STANDARD
END:VTIMEZONE
BEGIN:VEVENT
DTSTART;VALUE=DATE:20230602
DTEND;VALUE=DATE:20230604
DTSTAMP:20260422T123032
CREATED:20140702T174907Z
LAST-MODIFIED:20221215T020054Z
UID:4610-1685664000-1685836799@taichihealth.com
SUMMARY:Course Three: Original TCF Form Training - 12 Hours
DESCRIPTION:Instructor: Pat Culotti or Rachel Sandretto\nWPTA-Approved for 12 Contact hours.\nPrerequisites:  Proficiency in elements taught in Course One (formerly Levels 1-2) \nClick here to register for this Course \nCost: $390\, plus required materials \nCourse Description: Teaches all elements required for the Original Tai Chi Fundamentals® Program Certification. Participants learn Parts 2 and 3 of the Original TCF Form and review all Basic Moves. Includes teaching practicums\, techniques for using TCF with specific populations\, advanced training in sensing qi\, and introduction to Energize exercises. \n\n\n\nThe course includes presentations by certified instructors on program applications in group wellness settings as well as therapeutic assessment and intervention tools. This course qualifies as partial contact hours fulfillment for TCF Instructor Certification. \nThe Tai Chi Fundamentals® Program (TCF) provides a gateway to a Yang Style lineage tai chi form and is a bridge between tai chi practice and the medical model. The first program of its kind\, it provides a clear\, systematic approach for mastering tai chi basics that builds from simple to complex patterns of movement. TCF integrates mind/body components of tai chi with clinical overview\, movement analysis\, and therapeutic & functional applications. \n\n\nProgram Elements: movements are taught in a motor development progression and can be modified for use with walkers and wheelchairs. Includes: \n\n\n\n\n\nBasic Moves: graded sequence of exercises that reinforce functional movements of tai chi form\, and include basic elements of Qi Gong training. They have applications both as assessment and intervention tools.\nOriginal Tai Chi Fundamentals Form: a sequence of simple to more complex movements of modified Yang Style Tai Chi.\nMind/Body Skills: fostering mind/body integration\, effective movement\, and sense of well-being.\n\n\n\nDevelopment: in 1996 by Tricia Yu\, MA and Jill Johnson\, MS\, PT\, targeting elements from traditional tai chi that enhance balance\, coordination\, strength\, and endurance. \n\n\n\n\n\n\n\n\nThe TCF Program has been featured in: PT Journal\, Journal of Rehab Management\, The Gerontologist\, APTA’s GeriNotes\, Medline Plus\, Topics in Geriatric Rehabilitation. Journal of Asian Martial Arts\, Wellness Program Management Advisor\, American College of Sports Medicine’s Health and Fitness Journal\, and Massage and Bodywork. \n\n\n\n\n\n\n\n\nCheck back soon for the full Course schedule.
URL:https://taichihealth.com/event/level-3-june-2023/
LOCATION:Milwaukee Area\, WI and Virtual
CATEGORIES:COURSE THREE: ORIGINAL TAI CHI FUNDAMENTALS® FORM TRAINING
END:VEVENT
BEGIN:VEVENT
DTSTART;VALUE=DATE:20230617
DTEND;VALUE=DATE:20230618
DTSTAMP:20260422T123032
CREATED:20210303T015508Z
LAST-MODIFIED:20230428T202130Z
UID:4676-1686960000-1687046399@taichihealth.com
SUMMARY:TCF Virtual Certified Instructors Retreat
DESCRIPTION:TCF CERTIFIED INSTRUCTOR RETREAT \nDear Tai Chi Fundamentals® (TCF) Program Certified Instructors\, \n\n\n\nJoin us at our VIRTUAL TCF Certified Instructors Retreat. \n\nRegister online \n\nDate: June 17\, 2023 (Saturday) \nGeneral Schedule: \nMain event: 9 am to 5 pm\, Central time (with a healthy number of breaks included!)\nOptional party: 6 to 7 pm\, Central time\n\nOpportunities: Receive instruction on Basic Moves and the Original and Adapted TCF Forms. Learn and discuss techniques for teaching. Party! Fun and talent show on Saturday night! Bring your instruments and party supplies. 6 WPTA contact hours; provides half of the contact hours required in a two-year period to maintain certification.\n\nInstructors:  Patricia Culotti\, Rachel Sandretto\, Lori Enloe\, Kelly Rehder\, Kristi Hallisy\n\n\nFor those who can’t attend our in-person retreat at Dekoven (or who just want some extra practice!)\, the Virtual Instructors Retreat is a great way to maintain your Tai Chi Fundamentals training. It’s also a wonderful chance to make friends and find support through our community of teachers. \n2023 TCF Virtual Retreat Full Schedule (PDF) \nCost: $240 if you register by May 2nd for the early bird discount. $270 if you register by May 31st.
URL:https://taichihealth.com/event/tcf-certified-instructor-retreat-jun-2023/
LOCATION:Remote Training
CATEGORIES:Tai Chi Fundamentals®( TCF) Certified Instructor Retreat
END:VEVENT
END:VCALENDAR