BEGIN:VCALENDAR
VERSION:2.0
PRODID:-//Tai Chi Health - ECPv6.15.20//NONSGML v1.0//EN
CALSCALE:GREGORIAN
METHOD:PUBLISH
X-ORIGINAL-URL:https://taichihealth.com
X-WR-CALDESC:Events for Tai Chi Health
REFRESH-INTERVAL;VALUE=DURATION:PT1H
X-Robots-Tag:noindex
X-PUBLISHED-TTL:PT1H
BEGIN:VTIMEZONE
TZID:America/Chicago
BEGIN:DAYLIGHT
TZOFFSETFROM:-0600
TZOFFSETTO:-0500
TZNAME:CDT
DTSTART:20210314T080000
END:DAYLIGHT
BEGIN:STANDARD
TZOFFSETFROM:-0500
TZOFFSETTO:-0600
TZNAME:CST
DTSTART:20211107T070000
END:STANDARD
BEGIN:DAYLIGHT
TZOFFSETFROM:-0600
TZOFFSETTO:-0500
TZNAME:CDT
DTSTART:20220313T080000
END:DAYLIGHT
BEGIN:STANDARD
TZOFFSETFROM:-0500
TZOFFSETTO:-0600
TZNAME:CST
DTSTART:20221106T070000
END:STANDARD
BEGIN:DAYLIGHT
TZOFFSETFROM:-0600
TZOFFSETTO:-0500
TZNAME:CDT
DTSTART:20230312T080000
END:DAYLIGHT
BEGIN:STANDARD
TZOFFSETFROM:-0500
TZOFFSETTO:-0600
TZNAME:CST
DTSTART:20231105T070000
END:STANDARD
END:VTIMEZONE
BEGIN:VEVENT
DTSTART;VALUE=DATE:20221014
DTEND;VALUE=DATE:20221016
DTSTAMP:20260422T224220
CREATED:20211203T021056Z
LAST-MODIFIED:20220714T180046Z
UID:4298-1665705600-1665878399@taichihealth.com
SUMMARY:Course Two: TCF Adapted Program Short Form Training - 12 Hours
DESCRIPTION:Instructor: Patricia Culotti or Rachel Sandretto\nCEU-Approved for 12 Contact hours\nPrerequisites: Participation in Course One: Proficiency in elements taught in Course One (formerly Levels 1-2) \nClick here to register for this Course \nCourse Description: Participants review Optional Side Support\, Walker Support and Seated Versions of all Basic Moves and TCF Short Form Part 1 and learn all three versions of TCF Short Form Parts 2 and 3. Course includes Mind/body Skills training\, partner teaching practicums\, TCF applications for specific populations and training in sensing qi. The course includes program applications for wellness and rehab settings. See the flyer below for the full schedule for this training. \nA Certificate of Completion is awarded to participants who have attended both days and have demonstrated ability to teach program elements.   This course also qualifies as partial contact hours fulfillment for TCF Instructor Certification. \nCourse Objectives: \n1) Learn Basic Moves & Short Form\, Optional Side Support\, Walker & Seated versions.\n2) Teach Basic Moves and Short Form for all versions\n3) Describe TCF’s rationale\, biomechanics & functional benefits\n4) Lead Centering\, Breathing and Posture Awareness exercises\n5) Apply Sequence for introducing Mind/body Skills \nAudience: Anyone interested in learning the program for personal use or wanting to teach this program. Physical and occupational therapists\, PTAs\, COTAs\, nurses\, activity directors\, recreational and fitness professionals\, tai chi and other martial arts Instructors\, acupuncturists and integrative health practitioners. \nThe Tai Chi Fundamentals® Adapted Program includes instruction in three versions: Standing with Optional Side Support\, Walker Support and Seated.  An accessible\, adaptable program for learning tai chi\, it is suitable for individuals with a wide range of abilities and can be modified to accommodate individual needs and interests. \nProgram Elements: All movements are taught in a simple-to-complex sequence for easy learning and have been modified for practice with optional side support\, walker support and seated. All 3 versions include: \n\nBasic Moves: a series of exercises that trains postural alignment\, body mechanics and energetic components of tai chi. Designed as building blocks for learning tai chi\, they are taught in a simple-to-complex progression with discrete\, measurable increments in difficulty.\nTai Chi Fundamentals Short Form: a flowing sequence of tai chi movements based in Yang Style tai chi and adapted from the original Tai Chi Fundamentals® Form.\nMind/Body Skills Training: integrated into both Basic Moves and Short Form instruction\, fosters attention and focus\, a calm observant state of mind\, awareness of posture and breathing and physical relaxation. Characteristic of all traditional tai chi practice\, Mind/Body Skills training helps foster the cultivation of healthy qi or vital energy.\n\nDevelopment: in 2014 by Tricia Yu\, MA based on need for a program that includes modifications for standing with support and seated applications. \nApplications: Balance dysfunction\, orthopedic and neurological rehabilitation\, pain management\, sports cross training\, cardiovascular and respiratory diseases\, medically complex\, chronic fatigue\, fibromyalgia\, and special populations. Use in hospitals\, sub-acute\, outpatient clinics\, and home care. Teach groups of all ages\, abilities and fitness levels in community wellness classes\, health clubs\, tai chi & martial arts schools\, senior centers and long-term care facilities. \nCourse Two Flyer and Complete Schedule (PDF)\n  \n 
URL:https://taichihealth.com/event/course-two-tcf-adapted-program-short-form-training-12-hours-2/
LOCATION:Milwaukee Area\, WI and Virtual
CATEGORIES:COURSE TWO : TAI CHI FUNDAMENTALS® ADAPTED PROGRAM SHORT FORM TRAINING
END:VEVENT
END:VCALENDAR