BEGIN:VCALENDAR
VERSION:2.0
PRODID:-//Tai Chi Health - ECPv6.15.20//NONSGML v1.0//EN
CALSCALE:GREGORIAN
METHOD:PUBLISH
X-ORIGINAL-URL:https://taichihealth.com
X-WR-CALDESC:Events for Tai Chi Health
REFRESH-INTERVAL;VALUE=DURATION:PT1H
X-Robots-Tag:noindex
X-PUBLISHED-TTL:PT1H
BEGIN:VTIMEZONE
TZID:America/Chicago
BEGIN:DAYLIGHT
TZOFFSETFROM:-0600
TZOFFSETTO:-0500
TZNAME:CDT
DTSTART:20210314T080000
END:DAYLIGHT
BEGIN:STANDARD
TZOFFSETFROM:-0500
TZOFFSETTO:-0600
TZNAME:CST
DTSTART:20211107T070000
END:STANDARD
BEGIN:DAYLIGHT
TZOFFSETFROM:-0600
TZOFFSETTO:-0500
TZNAME:CDT
DTSTART:20220313T080000
END:DAYLIGHT
BEGIN:STANDARD
TZOFFSETFROM:-0500
TZOFFSETTO:-0600
TZNAME:CST
DTSTART:20221106T070000
END:STANDARD
BEGIN:DAYLIGHT
TZOFFSETFROM:-0600
TZOFFSETTO:-0500
TZNAME:CDT
DTSTART:20230312T080000
END:DAYLIGHT
BEGIN:STANDARD
TZOFFSETFROM:-0500
TZOFFSETTO:-0600
TZNAME:CST
DTSTART:20231105T070000
END:STANDARD
END:VTIMEZONE
BEGIN:VEVENT
DTSTART;TZID=America/Chicago:20220506T090000
DTEND;TZID=America/Chicago:20220506T164500
DTSTAMP:20260423T045439
CREATED:20140702T174907Z
LAST-MODIFIED:20220303T222306Z
UID:4306-1651827600-1651855500@taichihealth.com
SUMMARY:TCF Movement Intensive: Certification Preparation - 6 hours
DESCRIPTION:Instructor:  Patricia Culotti \nPrerequisites: Previous experience in Tai Chi Fundamentals® or Yang Style Cheng Man-Ch’ing Lineage Form. \nWPTA CEU-Approved for 6 Contact hours. \nRegister for this Course (link) \nLocation: Milwaukee Area\, WI. This will be an in-person Intensive. \nIntensive Description: Ideal for Tai Chi Fundamentals® (TCF) certification preparation and for keeping certification current in both the TCF Adapted Program and Original TCF Program. Great training for class instructors\, for health professionals applying TCF therapeutically in their practice and for enriching your personal Tai Chi practice. \nFocus: Review and refine TCF Basic Moves and Form for either TCF Adapted or Original TCF Programs. Includes teaching skills development\, movement analysis\, functional applications\, Mind/Body Skills training in breathing\, relaxation\, sensing qi (vital energy) and visualization\, plus coaching in constructive feedback and helping students improve their postural alignment.  Also includes preparation to teach Qigong Essence: a seated qigong routine for calming\, uplifting and balancing energy. Licensed health professionals can document all program elements for reimbursement.  Basic Moves\, Original TCF Form and sensing qi exercises are included in the Tai Chi Fundamentals® Patient Handout Software database available at Visual Health Information: http://www.vhikits.com/products/collections/TaiChi/TaiChi.aspx \n\n\n\n\n\n\n\n\n\n\n\n\n 
URL:https://taichihealth.com/event/intensive-milwaukee-february-2015-3-2-2-2-3-2-2-2-2-2-2-2-2-2-2-2-2-2-2-2-2-2-3/
LOCATION:Milwaukee Area\, WI
CATEGORIES:Tai Chi Fundamentals® Intensives
END:VEVENT
BEGIN:VEVENT
DTSTART;VALUE=DATE:20220519
DTEND;VALUE=DATE:20220524
DTSTAMP:20260423T045439
CREATED:20211011T201109Z
LAST-MODIFIED:20211216T212543Z
UID:4254-1652918400-1653350399@taichihealth.com
SUMMARY:TCF Certified Instructor and Yang Style CMC Short Form Retreats
DESCRIPTION:SAVE THE DATE:  May 19-23\, 2022\nTai Chi Fundamentals® Certified Instructors and Cheng Man Ch’ing Lineage Yang Style Short Form Retreats\nDekoven Center\, Racine\, WI. \nBased on feedback from our last in-person retreat\, we are changing the order of our events for 2022. Read on for more details! \nOnline registration is now available. See below for the registration form and for a PDF with the full event schedule. \n\n\n\n\n\n\nTCF ADVANCED CERTIFICATION RETREAT\, May 19-20\, 2022\nDates:  Thursday afternoon – Friday noon. Become a TCF Certification Reviewer or Training Instructor. This is the most thorough and cost-effective way to begin the process. There are prerequisites to becoming Advanced Certified\, so contact us if you are interested!\nInstructors: Patricia Culotti and Advanced Certified Instructors\nRegistration Options: Residential and commuter options available \n\n\n\nMAIN EVENT: TCF CERTIFIED INSTRUCTORS RETREAT\, May 20-22\, 2022\nDates: Friday afternoon – Sunday noon\nOpportunities: ReviewOriginal TCF Form\, TCF Adapted Program Basic Moves and Short Form\, all versions\, or teacha TCF Form move in our feedback/discussion groups. Presenta mini-course or show your stuff at the Share Fair. Practice push hands/sword (optional) at several opportunities throughout the retreat. Party! Talent show/skits on Saturday night! Bring your instruments and party supplies. 12 WPTA contact hours; keeps certification current for the next two years.\nInstructors:  Patricia Culotti\, Rachel Sandretto and Advanced Certified Instructors \nCHENG MAN-CH’ING (CMC) YANG STYLE SHORT FORM RETREAT: May 22-23\, 2022\nDates: Sunday afternoon – Monday afternoon. A great opportunity to learn and/or review CMC Form and applications.\nInstructors: Patricia Culotti and Russ Mason \n\n\n\nCOVID-19 Precautions and Requirements: \nThe DeKoven Center is only offering single rooms this year\, instead of a choice of single rooms or doubles. Masks will be required indoors in communal spaces. \nAll attendees will need to show proof of vaccination to attend this event\, as well as a negative Covid-19 test result conducted within 72 hours before arrival at DeKoven. Several of our teachers are immunocompromised\, so requiring these two precautions is what will allow us to have an in-person event this year. We reserve the right to change these rules if official guidance at the time of the Retreat has also changed. If you have a medical exemption from vaccination\, you can attend by providing only the negative test result. \nCommuter Options: \nWe encourage everyone attending the Retreat to lodge at the DeKoven Center\, as this allows the most time for informal connection with our tai chi community. If this isn’t an option for you\, though\, and if you live in the area\, you can attend the workshop portions of the Retreat as a commuter. If you are interested in attending as a commuter\, please contact us to make arrangements. (This option is not available through the online registration system.) Contact information for commuting options is included on the first page of the flyer below. \nClick below to open a PDF with the full schedule for the Retreat.  \n2022 Instructor Retreat Flyer (PDF) \n\nClick below to register for the Retreat. Remember to call or email us instead if you plan to commute. \nInstructor Retreat Registration Form
URL:https://taichihealth.com/event/tcf-certified-instructor-and-yang-style-cmc-short-form-retreats-save-the-date/
LOCATION:The Dekoven Center\, 600 21st Street\, Racine\, WI\, 53189\, United States
CATEGORIES:Tai Chi Fundamentals®( TCF) Certified Instructor Retreat
END:VEVENT
END:VCALENDAR