BEGIN:VCALENDAR
VERSION:2.0
PRODID:-//Tai Chi Health - ECPv6.15.20//NONSGML v1.0//EN
CALSCALE:GREGORIAN
METHOD:PUBLISH
X-WR-CALNAME:Tai Chi Health
X-ORIGINAL-URL:https://taichihealth.com
X-WR-CALDESC:Events for Tai Chi Health
REFRESH-INTERVAL;VALUE=DURATION:PT1H
X-Robots-Tag:noindex
X-PUBLISHED-TTL:PT1H
BEGIN:VTIMEZONE
TZID:Africa/Abidjan
BEGIN:STANDARD
TZOFFSETFROM:+0000
TZOFFSETTO:+0000
TZNAME:GMT
DTSTART:20190101T000000
END:STANDARD
END:VTIMEZONE
BEGIN:VTIMEZONE
TZID:America/Chicago
BEGIN:DAYLIGHT
TZOFFSETFROM:-0600
TZOFFSETTO:-0500
TZNAME:CDT
DTSTART:20190310T080000
END:DAYLIGHT
BEGIN:STANDARD
TZOFFSETFROM:-0500
TZOFFSETTO:-0600
TZNAME:CST
DTSTART:20191103T070000
END:STANDARD
BEGIN:DAYLIGHT
TZOFFSETFROM:-0600
TZOFFSETTO:-0500
TZNAME:CDT
DTSTART:20200308T080000
END:DAYLIGHT
BEGIN:STANDARD
TZOFFSETFROM:-0500
TZOFFSETTO:-0600
TZNAME:CST
DTSTART:20201101T070000
END:STANDARD
BEGIN:DAYLIGHT
TZOFFSETFROM:-0600
TZOFFSETTO:-0500
TZNAME:CDT
DTSTART:20210314T080000
END:DAYLIGHT
BEGIN:STANDARD
TZOFFSETFROM:-0500
TZOFFSETTO:-0600
TZNAME:CST
DTSTART:20211107T070000
END:STANDARD
END:VTIMEZONE
BEGIN:VEVENT
DTSTART;VALUE=DATE:20200306
DTEND;VALUE=DATE:20200307
DTSTAMP:20260424T144643
CREATED:20190907T031334Z
LAST-MODIFIED:20200123T202158Z
UID:2536-1583452800-1583539199@taichihealth.com
SUMMARY:Tai Chi Prime Leader Training\, Milwaukee\, Wisconsin
DESCRIPTION:Instructor Patricia Culotti\nEU-Approved for 8 Contact hours\nPrerequisite: Certification in the Tai Chi Fundamentals® Adapted Program (TCFA)\nQualifies for certification as a Tai Chi Prime Leader \nOnline registration available January 6\, 2020 \nCourse Description: Prepares certified TCFA instructors to become leaders for the 6-week\, twice-per-week\, evidence-based Tai Chi Prime class series featuring instruction in the TCFA Program\, Optional Side Support version and home practice coaching. Review and teach the Basic Moves\, TCF Short Form\, Mind/body skills and Everyday Qi Gong. Receive training in home practice coaching and leading group discussions. \nObjectives \n1. Teach and adapt Basic Moves\, TCF Short Form and Everyday Qi Gong.\n2. Discuss published research on Tai Chi Prime as an evidence-based class.\n3. Facilitate group home practice planning and coaching activities\n4. Lead and manage group discussions effectively.\n5. Teach the evidence-based Tai Chi Prime classes. \nApplications \nTai Chi Prime classes can be taught through health care community outreach and other community-based wellness classes\, VA settings\, senior centers\, health clubs and assisted living. For: wellness\, balance\, pain management\, MS\, Parkinson’s\, conditions\, neurological and autoimmune conditions\, cancer\, PTSD\, TBI\, and cardiovascular and respiratory diseases. \n Development Supported by: Grants from the Institute for Clinical and Translational Research at University of Wisconsin-Madison\, 2015-19. \nClick file below to download PDF containing further details:\n \nTCPrime Leader Training Brochure 2020 \nOnline registration available January 6\, 2020
URL:https://taichihealth.com/event/tai-chi-prime-leader-training-milwaukee-wisconsin-2/
LOCATION:Enhancing Balance Studio\, 4595A Turtle Creek Dr\, Brookfield\, WI\, 53005\, United States
CATEGORIES:TAI CHI PRIME LEADER TRAINING
END:VEVENT
BEGIN:VEVENT
DTSTART;VALUE=DATE:20200320
DTEND;VALUE=DATE:20200322
DTSTAMP:20260424T144643
CREATED:20140702T174907Z
LAST-MODIFIED:20200123T202158Z
UID:3217-1584662400-1584835199@taichihealth.com
SUMMARY:Course One: TCF Adapted Program Basic Moves Training\, Milwaukee\, Wisconsin
DESCRIPTION:Instructor Patricia Culotti\nCEU-Approved for 12 Contact hours\nPrerequisites: none. All levels of experience welcome. \nCourse Description: teaches TCF Adapted Program Basic Moves: Optional Side Support\, Walker & Seated versions; introduces all versions of the TCF Short Form Part 1. Features Mind/body Skills training\, applications for wellness\, & rehab\, partner teaching practicums\, Includes introduction to the ROM Dance® Program. \nAt the end of this course\, a TCF Program Basic Moves Certificate of Completion is awarded to participants who have demonstrated ability to teach Basic Moves. Course qualifies as partial contact hours fulfillment for TCF Instructor Certification. \nCourse Objectives\n1) Learn all three versions of TCF Adapted Program Basic Moves.\n2) Teach all versions of TCF Adapted Program Basic Moves.\n3) Describe TCF’s rationale\, biomechanics & functional benefits.\n4) Lead Centering\, Breathing and Posture Awareness exercises.\n5) Practice TCF Adapted Program Short Form\, Part One \nThe Tai Chi Fundamentals Adapted Program is an adaptable\, accessible program for learning tai chi. Suitable for individuals with a wide range of abilities\, it includes instruction in three versions: Standing with Optional Side Support\, Walker Support and Seated. All program elements can be modified to accommodate individual needs. \nProgram Elements: All movements are taught in a motor development progression and have been modified for practice with optional side support\, walker support and seated. All 3 versions include: \n – Basic Moves: a series of exercises that trains postural alignment\, body mechanics and energetic components of tai chi. Designed as building blocks for learning tai chi\, they are taught in a simple-to-complex progression with discrete\, measurable increments in difficulty and have applications as assessment and intervention tools. \n – Tai Chi Fundamentals Short Form: a flowing sequence of tai chi movements based in Yang Style tai chi and adapted from the original Tai Chi Fundamentals® Form. \n– Mind/Body Skills Training: integrated into both Basic Moves and Short Form instruction. Fosters attention and focus\, a calm observant state of mind\, awareness of posture and breathing and physical relaxation. Characteristic of all traditional tai chi practice\, Mind/Body Skills training helps foster the cultivation of healthy qi or vital energy. \nDevelopment: in 2014 by Tricia Yu\, MA based on need for a program that is easier to learn than the original TCF program and that includes modifications for standing with support and seated applications. \nThe TCF Program has been featured in: PT Journal\, Journal of Rehab Management\, The Gerontologist\, APTA’s GeriNotes\, Medline Plus\, Topics in Geriatric Rehabilitation. Journal of Asian Martial Arts\, Wellness Program Management Advisor\, American College of Sports Medicine’s Health and Fitness Journal\, Massage & Bodywork. \nClick the file name below to download and print a PDF containing further details: \nTCF Adapted Program Course One 2020 \n\nClick the link below to register for this Course: \nTCF Adapted Program Course One Registration \n 
URL:https://taichihealth.com/event/levels-1-2-milwaukee-september-2015-4-2-2-5-2-3-2-2/
LOCATION:Dreams Life & Wellness Center\, 732 Clinton Street\, Waukesha\, WI\, 53186\, United States
CATEGORIES:COURSE ONE: TAI CHI FUNDAMENTALS® ADAPTED PROGRAM BASIC MOVES TRAINING
END:VEVENT
END:VCALENDAR