BEGIN:VCALENDAR
VERSION:2.0
PRODID:-//Tai Chi Health - ECPv6.15.20//NONSGML v1.0//EN
CALSCALE:GREGORIAN
METHOD:PUBLISH
X-WR-CALNAME:Tai Chi Health
X-ORIGINAL-URL:https://taichihealth.com
X-WR-CALDESC:Events for Tai Chi Health
REFRESH-INTERVAL;VALUE=DURATION:PT1H
X-Robots-Tag:noindex
X-PUBLISHED-TTL:PT1H
BEGIN:VTIMEZONE
TZID:America/Chicago
BEGIN:DAYLIGHT
TZOFFSETFROM:-0600
TZOFFSETTO:-0500
TZNAME:CDT
DTSTART:20180311T080000
END:DAYLIGHT
BEGIN:STANDARD
TZOFFSETFROM:-0500
TZOFFSETTO:-0600
TZNAME:CST
DTSTART:20181104T070000
END:STANDARD
BEGIN:DAYLIGHT
TZOFFSETFROM:-0600
TZOFFSETTO:-0500
TZNAME:CDT
DTSTART:20190310T080000
END:DAYLIGHT
BEGIN:STANDARD
TZOFFSETFROM:-0500
TZOFFSETTO:-0600
TZNAME:CST
DTSTART:20191103T070000
END:STANDARD
BEGIN:DAYLIGHT
TZOFFSETFROM:-0600
TZOFFSETTO:-0500
TZNAME:CDT
DTSTART:20200308T080000
END:DAYLIGHT
BEGIN:STANDARD
TZOFFSETFROM:-0500
TZOFFSETTO:-0600
TZNAME:CST
DTSTART:20201101T070000
END:STANDARD
END:VTIMEZONE
BEGIN:VEVENT
DTSTART;TZID=America/Chicago:20190202T090000
DTEND;TZID=America/Chicago:20190202T164500
DTSTAMP:20260425T061910
CREATED:20140702T174907Z
LAST-MODIFIED:20200123T202242Z
UID:2321-1549098000-1549125900@taichihealth.com
SUMMARY:TCF Movement Intensive: Movement Refinement and Certification Preparation - 6 hours
DESCRIPTION:Instructor:  Patricia Culotti.  \nPrerequisites: Previous experience in Tai Chi Fundamentals®  or Yang Style Cheng Man-Ch’ing Lineage Form. \nWPTA CEU-Approved for 6 Contact hours. \nIntensive Description: Ideal for Tai Chi Fundamentals® (TCF) certification preparation and for keeping certification current in both the TCF Adapted Program and Original TCF Program. Great training for class instructors\, for health professionals applying TCF therapeutically in their practice and for enriching your personal Tai Chi practice. \nFocus: Review and refine TCF Basic Moves and Form for either TCF Adapted or Original TCF Programs. Includes teaching skills development\, movement analysis\, functional applications\, Mind/Body Skills training in breathing\, relaxation\, sensing qi (vital energy) and visualization\, plus coaching in constructive feedback and helping students improve their postural alignment.  Also includes preparation to teach Qigong Essence: a seated qigong routine for calming\, uplifting and balancing energy. Licensed health professionals can document all program elements for reimbursement.  Basic Moves\, Original TCF Form and sensing qi exercises are included in the Tai Chi Fundamentals® Patient Handout Software database available at Visual Health Information: http://www.vhikits.com/products/collections/TaiChi/TaiChi.aspx \n\nClick on the file name below for registration information PDF: \nTCF 2018-19 Intensive Schedule
URL:https://taichihealth.com/event/intensive-milwaukee-february-2015-3-2-2-2-3-2-2-2-2-2-2/
LOCATION:Enhancing Balance Studio\, 4595A Turtle Creek Dr\, Brookfield\, WI\, 53005\, United States
CATEGORIES:Tai Chi Fundamentals® Intensives
END:VEVENT
END:VCALENDAR