BEGIN:VCALENDAR
VERSION:2.0
PRODID:-//Tai Chi Health - ECPv6.15.20//NONSGML v1.0//EN
CALSCALE:GREGORIAN
METHOD:PUBLISH
X-WR-CALNAME:Tai Chi Health
X-ORIGINAL-URL:https://taichihealth.com
X-WR-CALDESC:Events for Tai Chi Health
REFRESH-INTERVAL;VALUE=DURATION:PT1H
X-Robots-Tag:noindex
X-PUBLISHED-TTL:PT1H
BEGIN:VTIMEZONE
TZID:America/Chicago
BEGIN:DAYLIGHT
TZOFFSETFROM:-0600
TZOFFSETTO:-0500
TZNAME:CDT
DTSTART:20170312T080000
END:DAYLIGHT
BEGIN:STANDARD
TZOFFSETFROM:-0500
TZOFFSETTO:-0600
TZNAME:CST
DTSTART:20171105T070000
END:STANDARD
BEGIN:DAYLIGHT
TZOFFSETFROM:-0600
TZOFFSETTO:-0500
TZNAME:CDT
DTSTART:20180311T080000
END:DAYLIGHT
BEGIN:STANDARD
TZOFFSETFROM:-0500
TZOFFSETTO:-0600
TZNAME:CST
DTSTART:20181104T070000
END:STANDARD
BEGIN:DAYLIGHT
TZOFFSETFROM:-0600
TZOFFSETTO:-0500
TZNAME:CDT
DTSTART:20190310T080000
END:DAYLIGHT
BEGIN:STANDARD
TZOFFSETFROM:-0500
TZOFFSETTO:-0600
TZNAME:CST
DTSTART:20191103T070000
END:STANDARD
END:VTIMEZONE
BEGIN:VEVENT
DTSTART;TZID=America/Chicago:20180712T173000
DTEND;TZID=America/Chicago:20180712T204500
DTSTAMP:20260425T152708
CREATED:20140702T174907Z
LAST-MODIFIED:20200123T202243Z
UID:2267-1531416600-1531428300@taichihealth.com
SUMMARY:TCF Movement Intensive: Movement Refinement - 3 hours
DESCRIPTION:Instructor Patricia Culotti.\nWPTA CEU-Approved for 3 Contact hours.\nPrerequisites: Previous experience in Tai Chi Fundamentals®  or Yang Style Cheng Man-Ch’ing Lineage. \nIntensive Description:  If you already attended a 6-hour Certification Preparation intensive and need further review\, this 3-hour intensive can be structured for your needs.  You can also take this intensive twice to fulfill the 6-hour minimum intensive requirement for TCF Certification.  Ideal for Tai Chi Fundamentals® (TCF) certification preparation and for keeping certification current in both the TCF Adapted Program and Original TCF Program. Great training for class instructors\, health professionals applying TCF therapeutically and for enriching personal Tai Chi practice. \nFocus: Review and refine TCF Basic Moves and Form for either TCF Adapted or Original TCF Programs. Includes teaching skills development\, movement analysis\, functional applications\, Mind/Body Skills training in breathing\, relaxation\, sensing qi (vital energy) and visualization\, plus coaching in constructive feedback and helping students improve their postural alignment.  Licensed health professionals can document all program elements for reimbursement. Basic Moves\, Original TCF Form and sensing qi exercises are included in the Tai Chi Fundamentals® Patient Handout Software database available at Visual Health Information: http://www.vhikits.com/products/collections/TaiChi/TaiChi.aspx \n\nClick on file below for information and registration PDF \nTCF 2018 Intensive Schedule
URL:https://taichihealth.com/event/intensive-milwaukee-january-2015-2-2-2-2-3-2-2-2-2/
LOCATION:Enhancing Balance Studio\, 4595A Turtle Creek Dr\, Brookfield\, WI\, 53005\, United States
CATEGORIES:Tai Chi Fundamentals® Intensives
END:VEVENT
BEGIN:VEVENT
DTSTART;VALUE=DATE:20180725
DTEND;VALUE=DATE:20180727
DTSTAMP:20260425T152708
CREATED:20150921T214527Z
LAST-MODIFIED:20200123T202243Z
UID:2279-1532476800-1532649599@taichihealth.com
SUMMARY:Course Two: TCF Adapted Program Short Form Training\, Appleton\, Wisconson (Sponsored Training\, Open to the Public)
DESCRIPTION:THIS COURSE IS A SPONSORED TRAINING THAT IS ALSO OPEN TO THE PUBLIC \nInstructor: Patricia Culotti \n Prerequisite: Participation in Course One: TCF Adapted Program Basic Moves Training \nWPTA CEU-Approved for 12 Contact hours. \nCourse Description: Participants review Optional Side Support\, Walker Support and Seated Versions of all Basic Moves and TCF Short Form Part 1\, and learn all three versions of TCF Short Form Parts 2 and 3. Course includes Mind/body Skills training\, partner teaching practicums\, TCF applications for specific populations and training in sensing qi.The course includes program applications for wellness and rehab settings. \nA Certificate of Completion is awarded to participants who have attended both days and have demonstrated ability to teach program elements.   This course also qualifies as partial contact hours fulfillment for TCF Instructor Certification. \nCourse Objectives: \n1) Learn Basic Moves & Short Form\, Optional Side Support\, Walker & Seated versions.\n2) Teach Basic Moves and Short Form for all versions\n3) Describe TCF’s rationale\, biomechanics & functional benefits\n4) Lead Centering\, Breathing and Posture Awareness exercises\n5) Apply Sequence for introducing Mind/body Skills \nAudience: Anyone interested in learning the program for personal use\, or wanting to teach this program. Physical and occupational therapists\, PTAs\, COTAs\, nurses\, activity directors\, recreational and fitness professionals\, tai chi and other martial arts Instructors\, acupuncturists and integrative health practitioners. \nThe Tai Chi Fundamentals® Adapted Program includes instruction in three versions: Standing with Optional Side Support\, Walker Support and Seated.  An\, accessible\, adaptable program for learning tai chi\, it is suitable for individuals with a wide range of abilities and can be modified to accommodate individual needs and interests. \nProgram Elements: All movements are taught in a simple-to-complex sequence for easy learning and have been modified for practice with optional side support\, walker support and seated. All 3 versions include: \n\nBasic Moves: a series of exercises that trains postural alignment\, body mechanics and energetic components of tai chi. Designed as building blocks for learning tai chi\, they are taught in a simple-to-complex progression with discrete\, measurable increments in difficulty.\nTai Chi Fundamentals Short Form: a flowing sequence of tai chi movements based in Yang Style tai chi and adapted from the original Tai Chi Fundamentals® Form.\nMind/Body Skills Training: integrated into both Basic Moves and Short Form instruction\, fosters attention and focus\, a calm observant state of mind\, awareness of posture and breathing and physical relaxation. Characteristic of all traditional tai chi practice\, Mind/Body Skills training helps foster the cultivation of healthy qi or vital energy.\n\nDevelopment: in 2014 by Tricia Yu\, MA based on need for a program that includes modifications for standing with support and seated applications. \n  \nApplications:Balance dysfunction\, orthopedic and neurological rehabilitation\, pain management\, sports cross training\, cardiovascular and respiratory diseases\, medically complex\, chronic fatigue\, fibromyalgia\, and special populations. Use in hospitals\, sub-acute\, outpatient clinics\, and home care. Teach groups of all ages\, abilities and fitness levels in community wellness classes\, health clubs\, tai chi & martial arts schools\, senior centers and long term care facilities. \nClick the file name below to download and print a PDF containing details\, registration information\, and more: \n2018 TCF Adapted Course Two ADRC Appleton
URL:https://taichihealth.com/event/new-tai-chi-fundamentals-adapted-program-training-taos-new-mexico-3-2-2-2-4-2/
LOCATION:Fox Valley Technical College\, 1825 N. Bluemound Dr.\, Appleton\, WI\, 54914\, United States
CATEGORIES:COURSE TWO : TAI CHI FUNDAMENTALS® ADAPTED PROGRAM SHORT FORM TRAINING
END:VEVENT
END:VCALENDAR