BEGIN:VCALENDAR
VERSION:2.0
PRODID:-//Tai Chi Health - ECPv6.15.20//NONSGML v1.0//EN
CALSCALE:GREGORIAN
METHOD:PUBLISH
X-WR-CALNAME:Tai Chi Health
X-ORIGINAL-URL:https://taichihealth.com
X-WR-CALDESC:Events for Tai Chi Health
REFRESH-INTERVAL;VALUE=DURATION:PT1H
X-Robots-Tag:noindex
X-PUBLISHED-TTL:PT1H
BEGIN:VTIMEZONE
TZID:America/Chicago
BEGIN:DAYLIGHT
TZOFFSETFROM:-0600
TZOFFSETTO:-0500
TZNAME:CDT
DTSTART:20170312T080000
END:DAYLIGHT
BEGIN:STANDARD
TZOFFSETFROM:-0500
TZOFFSETTO:-0600
TZNAME:CST
DTSTART:20171105T070000
END:STANDARD
BEGIN:DAYLIGHT
TZOFFSETFROM:-0600
TZOFFSETTO:-0500
TZNAME:CDT
DTSTART:20180311T080000
END:DAYLIGHT
BEGIN:STANDARD
TZOFFSETFROM:-0500
TZOFFSETTO:-0600
TZNAME:CST
DTSTART:20181104T070000
END:STANDARD
BEGIN:DAYLIGHT
TZOFFSETFROM:-0600
TZOFFSETTO:-0500
TZNAME:CDT
DTSTART:20190310T080000
END:DAYLIGHT
BEGIN:STANDARD
TZOFFSETFROM:-0500
TZOFFSETTO:-0600
TZNAME:CST
DTSTART:20191103T070000
END:STANDARD
BEGIN:DAYLIGHT
TZOFFSETFROM:-0600
TZOFFSETTO:-0500
TZNAME:CDT
DTSTART:20200308T080000
END:DAYLIGHT
BEGIN:STANDARD
TZOFFSETFROM:-0500
TZOFFSETTO:-0600
TZNAME:CST
DTSTART:20201101T070000
END:STANDARD
BEGIN:DAYLIGHT
TZOFFSETFROM:-0600
TZOFFSETTO:-0500
TZNAME:CDT
DTSTART:20210314T080000
END:DAYLIGHT
BEGIN:STANDARD
TZOFFSETFROM:-0500
TZOFFSETTO:-0600
TZNAME:CST
DTSTART:20211107T070000
END:STANDARD
BEGIN:DAYLIGHT
TZOFFSETFROM:-0600
TZOFFSETTO:-0500
TZNAME:CDT
DTSTART:20220313T080000
END:DAYLIGHT
BEGIN:STANDARD
TZOFFSETFROM:-0500
TZOFFSETTO:-0600
TZNAME:CST
DTSTART:20221106T070000
END:STANDARD
BEGIN:DAYLIGHT
TZOFFSETFROM:-0600
TZOFFSETTO:-0500
TZNAME:CDT
DTSTART:20230312T080000
END:DAYLIGHT
BEGIN:STANDARD
TZOFFSETFROM:-0500
TZOFFSETTO:-0600
TZNAME:CST
DTSTART:20231105T070000
END:STANDARD
BEGIN:DAYLIGHT
TZOFFSETFROM:-0600
TZOFFSETTO:-0500
TZNAME:CDT
DTSTART:20240310T080000
END:DAYLIGHT
BEGIN:STANDARD
TZOFFSETFROM:-0500
TZOFFSETTO:-0600
TZNAME:CST
DTSTART:20241103T070000
END:STANDARD
BEGIN:DAYLIGHT
TZOFFSETFROM:-0600
TZOFFSETTO:-0500
TZNAME:CDT
DTSTART:20250309T080000
END:DAYLIGHT
BEGIN:STANDARD
TZOFFSETFROM:-0500
TZOFFSETTO:-0600
TZNAME:CST
DTSTART:20251102T070000
END:STANDARD
END:VTIMEZONE
BEGIN:VEVENT
DTSTART;VALUE=DATE:20180503
DTEND;VALUE=DATE:20180505
DTSTAMP:20260425T181727
CREATED:20140702T174907Z
LAST-MODIFIED:20200123T202319Z
UID:2240-1525305600-1525478399@taichihealth.com
SUMMARY:Yang Style Tai Chi  Movement Intensive\, Dekoven Center\, Racine Wisconsin
DESCRIPTION:2020 Cheng Man-Ch’ing (CMC) Yang Style Short Form Retreat \nOnline registration  available January 5\, 2020 \nCMC Retreat:          Thursday –Friday April 16-17\, 2020\nExtended Retreat: Thursday–Saturday April 16-18\, 2020\nInstructors:             Pat Culotti\, Russ Mason and Tricia Yu \nJoin us for a relaxing retreat at the Dekoven Center to jumpstart or refine your CMC form.  Pat Culotti and Russ Mason\, a 35-year CMC practitioner\, push hands enthusiast and Tricia Yu will alternate teaching the following concurrent classes. \nChoose One:\n \n\nLearn CMC Form: You have training in Tai Chi Fundamentals and want to learn the CMC form.\nReview CMC Form: You are an experienced CMC practitioner and want to review the entire form.\n\n\n Click on file below for information.  Online registration available January 5\, 2020 \nCMC Retreat flyer 2020 TCF Certified Instructors Retreat flyer 2020  \n\n  \n 
URL:https://taichihealth.com/event/ystc-intensive-madison-october-2014-2-4-2-2/
LOCATION:The Dekoven Center\, 600 21st Street\, Racine\, WI\, 53189\, United States
CATEGORIES:Yang Style Cheng Man Ch'ing Lineage Intensives
END:VEVENT
BEGIN:VEVENT
DTSTART;VALUE=DATE:20240613
DTEND;VALUE=DATE:20240617
DTSTAMP:20260425T181727
CREATED:20140702T174907Z
LAST-MODIFIED:20231113T195901Z
UID:2045-1718236800-1718582399@taichihealth.com
SUMMARY:Save the Date: 2024 TCF Certified Instructor Retreat
DESCRIPTION:Dear Tai Chi Fundamentals® (TCF) Program Certified Instructors\, \n\n\n\nJoin us at our TCF Certified Instructor Retreat. We hold these retreats biennially. SAVE THE DATE:  June 13-15\, 2024 at Holy Wisdom Monastery in Madison\, WI. Learn more about Holy Wisdom Monastery at their website.\n \nTCF ADVANCED CERTIFICATION RETREAT\nDates:  Sunday PM- Monday noon.  Would you like to become a TCF Certification Testing Reviewer or Professional Training Instructor? This is the most thorough and cost-effective way to begin the process. Contact Rachel for details. 6 WPTA contact hours.\nInstructors:  Rachel Sandretto and Patricia Culotti \nMAIN EVENT: TCF CERTIFIED INSTRUCTORS RETREAT\nDates: Friday PM – Sunday afternoon\nOpportunities: Get trained to teach the evidence-based (in review) classes taught in the tai chi grant. Includes hard copy of all teaching materials. Get certified in the TCF Adapted Program\, which is required for teaching tai chi grant classes. Receive new certificate\, files and permission for using teaching materials. Review Original TCF Form\, holding postures. Either attend instruction/review of TCF Adapted Program Basic Moves and Short Form\, all versions\, or teach a TCF Form move in our feedback/discussion groups. Present a mini-course or show your stuff at the Share Fair. Practice push hands/sword (optional) at several opportunities throughout the retreat. Party! Talent show/skits on Friday night! Bring your instruments and party supplies. 12 WPTA contact hours; keeps certification current for the next two years.\nInstructors:  Patricia Culotti and Rachel Sandretto\, with presentations by Certified Instructors \nThis is a residential retreat. Living in community allows us to immerse ourselves in our work and play\, optimizing our precious time together. We offer a range of registration options. Please be in touch with questions. I look forward to a memorable retreat with you!Rachel \n\n\n\nClick the file below to download and print a PDF containing details of the 2018 retreat:\n \nTCF Certified Instructors Retreat 2018
URL:https://taichihealth.com/event/tcf-retreat-2024/
LOCATION:Holy Wisdom Monastery\, 4200 County Road M\, Middleton\, WI\, 53562
CATEGORIES:Tai Chi Fundamentals®( TCF) Certified Instructor Retreat
ORGANIZER;CN="Rachel Sandretto":MAILTO:taichihealth.rs@gmail.com
END:VEVENT
BEGIN:VEVENT
DTSTART;TZID=America/Chicago:20180510T173000
DTEND;TZID=America/Chicago:20180510T204500
DTSTAMP:20260425T181727
CREATED:20140702T174907Z
LAST-MODIFIED:20180417T105622Z
UID:2237-1525973400-1525985100@taichihealth.com
SUMMARY:TCF Movement Intensive: Movement Refinement - 3 hours
DESCRIPTION:Instructor Patricia Culotti.\nWPTA CEU-Approved for 3 Contact hours.\nPrerequisites: Previous experience in Tai Chi Fundamentals®  or Yang Style Cheng Man-Ch’ing Lineage. \nIntensive Description:  If you already attended a 6-hour Certification Preparation intensive and need further review\, this 3-hour intensive can be structured for your needs.  You can also take this intensive twice to fulfill the 6-hour minimum intensive requirement for TCF Certification.  Ideal for Tai Chi Fundamentals® (TCF) certification preparation and for keeping certification current in both the TCF Adapted Program and Original TCF Program. Great training for class instructors\, health professionals applying TCF therapeutically and for enriching personal Tai Chi practice. \nFocus: Review and refine TCF Basic Moves and Form for either TCF Adapted or Original TCF Programs. Includes teaching skills development\, movement analysis\, functional applications\, Mind/Body Skills training in breathing\, relaxation\, sensing qi (vital energy) and visualization\, plus coaching in constructive feedback and helping students improve their postural alignment.  Licensed health professionals can document all program elements for reimbursement. Basic Moves\, Original TCF Form and sensing qi exercises are included in the Tai Chi Fundamentals® Patient Handout Software database available at Visual Health Information: http://www.vhikits.com/products/collections/TaiChi/TaiChi.aspx \n\nClick on file below for information and registration PDF \nTCF 2018 Intensive Schedule
URL:https://taichihealth.com/event/intensive-milwaukee-january-2015-2-2-2-2-3-2-2-2/
LOCATION:Enhancing Balance Studio\, 4595A Turtle Creek Dr\, Brookfield\, WI\, 53005\, United States
CATEGORIES:Tai Chi Fundamentals® Intensives
END:VEVENT
BEGIN:VEVENT
DTSTART;TZID=America/Chicago:20180518T113000
DTEND;TZID=America/Chicago:20180519T153000
DTSTAMP:20260425T181727
CREATED:20140702T174907Z
LAST-MODIFIED:20200123T202243Z
UID:2146-1526643000-1526743800@taichihealth.com
SUMMARY:Course Three: Original TCF Form Training\, Milwaukee\, Wisconsin
DESCRIPTION:Instructor: Patricia Culotti\nWPTA-Approved for 12 Contact hours.\nPrerequisites: Proficiency in elements taught in Course One (formerly Levels 1-2)\n \n\n\n\nCourse Description: Teaches all elements required for TCF Level Three Certification. Participants learn Parts 2 and 3 of the TCF Form and review all Basic Moves. Includes teaching practicums\, techniques for using TCF with specific populations\, advanced training in sensing qi and introduction to Energize exercises. \nThe course includes presentations by certified instructors on program applications in group wellness settings as well as therapeutic assessment and intervention tools. This course qualifies as partial contact hours fulfillment for TCF Instructor Certification Level Three. \nThe Tai Chi Fundamentals® Program (TCF) provides gateway  to a Yang Style lineage tai chi form\, and  a bridge between tai chi practice and the medical model. The first program of its kind\, it provides a clear\, systematic approach for mastering tai chi basics that builds from simple to complex patterns of movement. Integrates mind/body components of tai chi with clinical overview\, movement analysis\, therapeutic & functional applications. \n\n\nProgram Elements: movements are taught in a motor development progression and can be modified for use with walkers and wheelchairs. Includes: \n\n\n\n\n\nBasic Moves: graded sequence of exercises that reinforce functional movements of tai chi form\, and include basic elements of Qi Gong training. They have applications both as assessment and intervention tools.\nFundamentals Form: sequence of simple to more complex movements of modified Yang Style Tai Chi.\nMind/Body Skills: fostering mind/body integration\, effective movement and sense of well-being.\n\n\n\nDevelopment: in 1996 by Tricia Yu\, MA and Jill Johnson\, MS\, PT\, targeting elements from traditional tai chi that enhance balance\, coordination\, strength and endurance. \n\n\n\n\n\n\n\n\nThe TCF Program has been featured in: PT Journal\, Journal of Rehab Management\, The Gerontologist\, APTA’s GeriNotes\, Medline Plus\, Topics in Geriatric Rehabilitation. Journal of Asian Martial Arts\, Wellness Program Management Advisor\, American College of Sports Medicine’s Health and Fitness Journal\, and Massage and Bodywork. \n\n\n\n\n\n\n\nClick the file below to download and print a PDF containing details\, registration information\, and more: \nCourse Three Original TCF Form 2017-2018
URL:https://taichihealth.com/event/level-3-milwaukee-april-2015-2-2-2-2/
LOCATION:Enhancing Balance Studio\, 4595A Turtle Creek Dr\, Brookfield\, WI\, 53005\, United States
CATEGORIES:COURSE THREE: ORIGINAL TAI CHI FUNDAMENTALS® FORM TRAINING
END:VEVENT
END:VCALENDAR