BEGIN:VCALENDAR
VERSION:2.0
PRODID:-//Tai Chi Health - ECPv6.15.20//NONSGML v1.0//EN
CALSCALE:GREGORIAN
METHOD:PUBLISH
X-ORIGINAL-URL:https://taichihealth.com
X-WR-CALDESC:Events for Tai Chi Health
REFRESH-INTERVAL;VALUE=DURATION:PT1H
X-Robots-Tag:noindex
X-PUBLISHED-TTL:PT1H
BEGIN:VTIMEZONE
TZID:America/Chicago
BEGIN:DAYLIGHT
TZOFFSETFROM:-0600
TZOFFSETTO:-0500
TZNAME:CDT
DTSTART:20250309T080000
END:DAYLIGHT
BEGIN:STANDARD
TZOFFSETFROM:-0500
TZOFFSETTO:-0600
TZNAME:CST
DTSTART:20251102T070000
END:STANDARD
BEGIN:DAYLIGHT
TZOFFSETFROM:-0600
TZOFFSETTO:-0500
TZNAME:CDT
DTSTART:20260308T080000
END:DAYLIGHT
BEGIN:STANDARD
TZOFFSETFROM:-0500
TZOFFSETTO:-0600
TZNAME:CST
DTSTART:20261101T070000
END:STANDARD
BEGIN:DAYLIGHT
TZOFFSETFROM:-0600
TZOFFSETTO:-0500
TZNAME:CDT
DTSTART:20270314T080000
END:DAYLIGHT
BEGIN:STANDARD
TZOFFSETFROM:-0500
TZOFFSETTO:-0600
TZNAME:CST
DTSTART:20271107T070000
END:STANDARD
END:VTIMEZONE
BEGIN:VEVENT
DTSTART;TZID=America/Chicago:20260829T130000
DTEND;TZID=America/Chicago:20260829T163000
DTSTAMP:20260424T190859
CREATED:20260409T194903Z
LAST-MODIFIED:20260409T195134Z
UID:21677-1788008400-1788021000@taichihealth.com
SUMMARY:TCF Movement Intensive: Adapted TCF Form Review - 3 hours
DESCRIPTION:Instructor: Rachel Sandretto\nPrerequisites: Previous experience in Tai Chi Fundamentals® or Yang Style Cheng Man-Ch’ing Lineage Form.\nFormat: Virtual\, via Zoom \nAPTA Wisconsin CEU-Approved for 3 Contact Hours \nRegister for this Intensive \nCost: $80 \nRegistration closes August 26. Please contact us if you are interested in registering after that date. \nIntensive Description: Ideal for Tai Chi Fundamentals® (TCF) certification preparation and for keeping certification current in both the TCF Adapted Program and Original TCF Program. Great training for class instructors\, for health professionals applying TCF therapeutically in their practice\, and for enriching your personal tai chi practice. \nFocus: Review and refine the TCF Adapted Program Form\, performed standing with optional side support. Includes teaching skills development\, movement analysis\, functional applications\, and Mind/Body Skills training in breathing\, relaxation\, sensing qi (vital energy)\, and visualization. Also includes coaching in constructive feedback and helping students improve their postural alignment. Licensed health professionals can document all program elements for reimbursement. \nBasic Moves\, Original TCF Form and sensing qi exercises are included in the Tai Chi Fundamentals® Patient Handout Software database available at Visual Health Information: http://www.vhikits.com/products/collections/TaiChi/TaiChi.aspx
URL:https://taichihealth.com/event/tcf-movement-intensive-adapted-tcf-form-review-3-hours/
LOCATION:Remote Training
CATEGORIES:Tai Chi Fundamentals® Intensives
ORGANIZER;CN="Rachel Sandretto":MAILTO:taichihealth.rs@gmail.com
END:VEVENT
BEGIN:VEVENT
DTSTART;VALUE=DATE:20260911
DTEND;VALUE=DATE:20260913
DTSTAMP:20260424T190859
CREATED:20260403T200011Z
LAST-MODIFIED:20260409T191138Z
UID:21622-1789084800-1789257599@taichihealth.com
SUMMARY:Course One: TCF Program Basic Moves Training - 12 Hours
DESCRIPTION:Instructor: Pat Culotti or Rachel Sandretto\nAPTA Wisconsin CEU-Approved: 12 Contact hours\nPrerequisites: None. All levels of experience welcome. \nFormat: This Course will be held in hybrid format. You may attend in person or via Zoom. \nRegister for this Course \nCost: $390 + required materials (see registration form for specifics) \nRegistration closes September 4th. Please contact us if you are interested in registering after that date. \nCourse Description: Teaches the Tai Chi Fundamentals® (TCF) Program Basic Moves: Optional Side Support version and the TCF Short Form Part One. Introduces the Walker and Seated versions of the TCF Adapted Program. Features Mind/Body Skills training\, applications for wellness and rehabilitation\, and partner teaching practicums. Includes introduction to the ROM Dance® Program. See the flyer below for the full schedule for this training. \nAt the end of this course\, a TCF Program Basic Moves Certificate of Completion is awarded to participants who have demonstrated the ability to teach Basic Moves. Course qualifies as partial contact hours fulfillment for TCF Instructor Certification. \nCourse One Brochure with Detailed Schedule (PDF) \nCourse Objectives\n1) Learn the TCF Program Basic Moves with Side Support.\n2) Teach the TCF Program Basic Moves.\n3) Learn principles of movement adaptation for participants using chairs and walkers.\n4) Describe TCF’s rationale\, biomechanics & functional benefits.\n5) Practice Centering\, Breathing and Posture Awareness exercises.\n6) Practice TCF Adapted Program Short Form\, Part One \nThe Tai Chi Fundamentals Programs are adaptable\, accessible programs for learning tai chi. Suitable for individuals with a wide range of abilities\, they include instruction in three versions: Standing with Optional Side Support\, Walker Support\, and Seated. All program elements can be modified to accommodate individual needs. \nProgram Elements: All movements are taught in a motor development progression and have been modified for practice with optional side support\, walker support\, and seated. All 3 versions include: \n – Basic Moves: a series of exercises that trains postural alignment\, body mechanics\, and energetic components of tai chi. Designed as building blocks for learning tai chi\, they are taught in a simple-to-complex progression with discrete\, measurable increments in difficulty and have applications as assessment and intervention tools. \n – Tai Chi Fundamentals Form: a flowing sequence of tai chi movements based in Yang Style tai chi. \n– Mind/Body Skills Training: integrated into both Basic Moves and TCF Form instruction. Fosters attention and focus; a calm\, observant state of mind; awareness of posture and breathing; and physical relaxation. Characteristic of all traditional tai chi practice\, Mind/Body Skills training helps foster the cultivation of healthy qi\, or vital energy. \nDevelopment: The Original Tai Chi Fundamentals® Program was developed in 1996 by Tricia Yu\, MA and Jill Johnson\, MS\, PT\, targeting elements from traditional tai chi that enhance balance\, coordination\, strength\, and endurance. The Tai Chi Fundamentals® Adapted Program was developed in 2014 by Tricia Yu based on the need for a program that is easier to learn than the original TCF program and that includes modifications for standing with support and seated applications. \nThe TCF Program has been featured in: PT Journal\, Journal of Rehab Management\, The Gerontologist\, APTA’s GeriNotes\, Medline Plus\, Topics in Geriatric Rehabilitation. Journal of Asian Martial Arts\, Wellness Program Management Advisor\, American College of Sports Medicine’s Health and Fitness Journal\, Massage & Bodywork. \n\n 
URL:https://taichihealth.com/event/course-one-tcf-program-basic-moves-training-12-hours-2/
LOCATION:Milwaukee Area\, WI and Virtual
CATEGORIES:COURSE ONE: TAI CHI FUNDAMENTALS® ADAPTED PROGRAM BASIC MOVES TRAINING
END:VEVENT
BEGIN:VEVENT
DTSTART;TZID=America/Chicago:20261007T173000
DTEND;TZID=America/Chicago:20261007T203000
DTSTAMP:20260424T190859
CREATED:20260409T204927Z
LAST-MODIFIED:20260410T150143Z
UID:21684-1791394200-1791405000@taichihealth.com
SUMMARY:Yang Style Tai Chi Movement Intensive\, Milwaukee Wisconsin
DESCRIPTION:Instructor: Patricia Culotti\, MTF Instructor \nPrerequisites: Previous experience in Cheng Man-Ch’ing Yang Style Tai Chi \nCost: $95 \nCourse Description: Review and refine form sequences of your choice. May include small group and individual practice. Learn exercises for cultivating flexibility\, strength\, relaxed awareness\, and skill in sensing qi during form practice. Applications: every breath\, gesture\, and situation of life. We explore ideas for self-correction\, two-person work\, and constructive feedback. Ideal for both enriching personal tai chi practice and developing teaching skills. If you are interested in becoming or already are a tai chi teacher\, these are essential trainings. \n\nRegister for this Course directly with the Course Instructor: \n3-Hour Intensives Information and Registration (PDF) \n\n 
URL:https://taichihealth.com/event/yang-style-tai-chi-movement-intensive-milwaukee-wisconsin-4/
LOCATION:Milwaukee Area\, WI
CATEGORIES:Yang Style Cheng Man Ch'ing Lineage Intensives
END:VEVENT
BEGIN:VEVENT
DTSTART;VALUE=DATE:20261009
DTEND;VALUE=DATE:20261011
DTSTAMP:20260424T190859
CREATED:20260403T201308Z
LAST-MODIFIED:20260420T134010Z
UID:21626-1791504000-1791676799@taichihealth.com
SUMMARY:Course Two: TCF Adapted Program Form Training - 12 Hours
DESCRIPTION:Instructor: Rachel Sandretto or Patricia Corrigan Culotti\nAPTA Wisconsin CEU-Approved: 12 Contact hours\nPrerequisites: Participation in Course One. This Course requires proficiency in elements taught in Course One (formerly called Levels 1-2) \nFormat: This Course will be held in hybrid format. You may attend in person or via Zoom. \nRegister for this Course \nCost: $390 \nRegistration closes October 2nd. Please contact us if you are interested in registering after that date. \nCourse Description: Participants review the Optional Side Support versions of the Basic Moves and the Tai Chi Fundamentals® (TCF) Form Part One. Participants practice and learn the Walker and Seated versions of the Basic Moves and learn all three versions of the TCF Adapted Form Parts Two and Three. Course includes Mind/Body Skills training\, partner teaching practicums\, TCF applications for specific populations\, and training in sensing qi. The course includes program applications for wellness and rehab settings. See the flyer below for the full schedule for this training. \nA Certificate of Completion is awarded to participants who have attended both days and have demonstrated the ability to teach program elements. This course also qualifies as partial contact hours fulfillment for TCF Instructor Certification. \nCourse flyer with detailed schedule (PDF) \nCourse Objectives: \n1) Learn Basic Moves & TCF Adapted Form in Optional Side Support\, Walker\, and Seated versions\n2) Teach select Basic Moves and TCF Adapted Form moves\n3) Describe TCF’s rationale\, biomechanics\, and functional benefits\n4) Lead Centering\, Breathing\, and Posture Awareness exercises\n5) Apply the sequence for introducing Mind/Body Skills \nAudience: Anyone interested in learning the program for personal use or wanting to teach this program. Physical and occupational therapists\, PTAs\, COTAs\, nurses\, activity directors\, recreational and fitness professionals\, tai chi and other martial arts Instructors\, acupuncturists and integrative health practitioners. \nThe Tai Chi Fundamentals® Adapted Program includes instruction in three versions: Standing with Optional Side Support\, Walker Support\, and Seated.  An accessible\, adaptable program for learning tai chi\, it is suitable for individuals with a wide range of abilities and can be modified to accommodate individual needs and interests. \nProgram Elements: All movements are taught in a simple-to-complex sequence for easy learning and have been modified for practice with optional side support\, walker support\, and seated. All 3 versions include: \n  – Basic Moves: a series of exercises that trains postural alignment\, body mechanics\, and energetic components of tai chi. Designed as building blocks for learning tai chi\, they are taught in a simple-to-complex progression with discrete\, measurable increments in difficulty. \n  – Tai Chi Fundamentals® Adapted Form: a flowing sequence of tai chi movements based in Yang Style tai chi and adapted from the Original Tai Chi Fundamentals® Form. \n  – Mind/Body Skills Training: integrated into both Basic Moves and Short Form instruction. Fosters attention and focus; a calm\, observant state of mind; awareness of posture and breathing; and physical relaxation. Characteristic of all traditional tai chi practice\, Mind/Body Skills training helps foster the cultivation of healthy qi\, or vital energy. \nDevelopment: in 2014 by Tricia Yu\, MA based on the need for a program that includes modifications for standing with support and seated applications. \nApplications: Balance dysfunction\, orthopedic and neurological rehabilitation\, pain management\, sports cross training\, cardiovascular and respiratory diseases\, medically complex\, chronic fatigue\, fibromyalgia\, and special populations. Use in hospitals\, sub-acute\, outpatient clinics\, and home care. Teach groups of all ages\, abilities\, and fitness levels in community wellness classes\, health clubs\, tai chi & martial arts schools\, senior centers\, and long-term care facilities. \n 
URL:https://taichihealth.com/event/course-two-tcf-adapted-program-form-training-12-hours-2/
LOCATION:Madison\, WI and Virtual
CATEGORIES:COURSE TWO : TAI CHI FUNDAMENTALS® ADAPTED PROGRAM SHORT FORM TRAINING
ORGANIZER;CN="Rachel Sandretto":MAILTO:taichihealth.rs@gmail.com
END:VEVENT
BEGIN:VEVENT
DTSTART;TZID=America/Chicago:20261016T130000
DTEND;TZID=America/Chicago:20261016T163000
DTSTAMP:20260424T190859
CREATED:20260403T203630Z
LAST-MODIFIED:20260409T185751Z
UID:21641-1792155600-1792168200@taichihealth.com
SUMMARY:TCF Movement Intensive: Certification Preparation - 3 hours
DESCRIPTION:Instructor: Patricia Corrigan Culotti\nPrerequisites: Previous experience in Tai Chi Fundamentals® or Yang Style Cheng Man-Ch’ing Lineage Form.\nFormat: Hybrid (in person in Milwaukee\, WI or virtually over Zoom) \nAPTA Wisconsin CEU-Approved for 3 Contact Hours \nRegister for this Intensive \nCost: $95 \nRegistration closes October 14. Please contact us if you are interested in registering after that date. \nIntensive Description: Ideal for Tai Chi Fundamentals® (TCF) certification preparation and for keeping certification current in both the TCF Adapted Program and Original TCF Program. Great training for class instructors\, for health professionals applying TCF therapeutically in their practice\, and for enriching your personal tai chi practice. \nFocus: Review and refine TCF Basic Moves and Form for either the TCF Adapted or Original TCF Programs. Includes teaching skills development\, movement analysis\, functional applications\, and Mind/Body Skills training in breathing\, relaxation\, sensing qi (vital energy)\, and visualization. Also includes coaching in constructive feedback and helping students improve their postural alignment. Licensed health professionals can document all program elements for reimbursement. Basic Moves\, Original TCF Form and sensing qi exercises are included in the Tai Chi Fundamentals® Patient Handout Software database available at Visual Health Information: http://www.vhikits.com/products/collections/TaiChi/TaiChi.aspx
URL:https://taichihealth.com/event/tcf-movement-intensive-certification-preparation-6-hours-7/
LOCATION:Milwaukee Area\, WI and Virtual
CATEGORIES:Tai Chi Fundamentals® Intensives
END:VEVENT
BEGIN:VEVENT
DTSTART;VALUE=DATE:20261113
DTEND;VALUE=DATE:20261115
DTSTAMP:20260424T190859
CREATED:20260403T202413Z
LAST-MODIFIED:20260420T134118Z
UID:21636-1794528000-1794700799@taichihealth.com
SUMMARY:Course Three: Original TCF Form Training - 12 Hours
DESCRIPTION:Instructor: Rachel Sandretto or Patricia Corrigan Culotti\nAPTA Wisconsin CEU-Approved: 12 Contact hours\nPrerequisites:Participation in Course One. This Course requires proficiency in elements taught in Course One (formerly called Levels 1-2) \nFormat: This Course will be held in hybrid format. You may attend in person or via Zoom. \nRegister for this Course\n \nCost: $390 + required materials (see flyer below or registration form for details) \nRegistration closes November 6th. Please contact us if you are interested in registering after that date. \nCourse Description: Teaches all elements required for the Original Tai Chi Fundamentals® (TCF) Program Certification. Participants learn Parts 2 and 3 of the Original TCF Form and review all Basic Moves. Includes teaching practicums\, techniques for using TCF with specific populations\, advanced training in sensing qi\, and review of Energize exercises. \n\n\nThe course includes presentations by certified instructors on program applications in group wellness settings as well as therapeutic assessment and intervention tools. This course qualifies as partial contact hours fulfillment for TCF Instructor Certification. \nCourse flyer with detailed schedule (PDF) \n\nThe Tai Chi Fundamentals® Program provides a gateway to a Yang Style lineage tai chi and is a bridge between tai chi practice and the medical model. The first program of its kind\, it provides a clear\, systematic approach for mastering tai chi basics that builds from simple to complex patterns of movement. TCF integrates mind/body components of tai chi with clinical overview\, movement analysis\, and therapeutic and functional applications. \nProgram Elements: movements are taught in a motor development progression and can be modified for use with walkers and wheelchairs. Includes: \n– Basic Moves: graded sequence of exercises that reinforce functional movements of tai chi form and include basic elements of qigong training. They have applications both as assessment and intervention tools. \n– Original Tai Chi Fundamentals® Form: a sequence of simple to more complex movements of modified Yang Style Tai Chi. \n– Mind/Body Skills: fostering mind/body integration\, effective movement\, and sense of well-being. \n\n\nDevelopment: in 1996 by Tricia Yu\, MA and Jill Johnson\, MS\, PT\, targeting elements from traditional tai chi that enhance balance\, coordination\, strength\, and endurance. \n\n\n\n\n\n\n\n\nThe TCF Program has been featured in: PT Journal\, Journal of Rehab Management\, The Gerontologist\, APTA’s GeriNotes\, Medline Plus\, Topics in Geriatric Rehabilitation. Journal of Asian Martial Arts\, Wellness Program Management Advisor\, American College of Sports Medicine’s Health and Fitness Journal\, and Massage and Bodywork.
URL:https://taichihealth.com/event/course-three-original-tcf-form-training-12-hours-2/
LOCATION:Madison\, WI and Virtual
CATEGORIES:COURSE THREE: ORIGINAL TAI CHI FUNDAMENTALS® FORM TRAINING
ORGANIZER;CN="Rachel Sandretto":MAILTO:taichihealth.rs@gmail.com
END:VEVENT
END:VCALENDAR