BEGIN:VCALENDAR
VERSION:2.0
PRODID:-//Tai Chi Health - ECPv6.15.20//NONSGML v1.0//EN
CALSCALE:GREGORIAN
METHOD:PUBLISH
X-WR-CALNAME:Tai Chi Health
X-ORIGINAL-URL:https://taichihealth.com
X-WR-CALDESC:Events for Tai Chi Health
REFRESH-INTERVAL;VALUE=DURATION:PT1H
X-Robots-Tag:noindex
X-PUBLISHED-TTL:PT1H
BEGIN:VTIMEZONE
TZID:America/Chicago
BEGIN:DAYLIGHT
TZOFFSETFROM:-0600
TZOFFSETTO:-0500
TZNAME:CDT
DTSTART:20190310T080000
END:DAYLIGHT
BEGIN:STANDARD
TZOFFSETFROM:-0500
TZOFFSETTO:-0600
TZNAME:CST
DTSTART:20191103T070000
END:STANDARD
BEGIN:DAYLIGHT
TZOFFSETFROM:-0600
TZOFFSETTO:-0500
TZNAME:CDT
DTSTART:20200308T080000
END:DAYLIGHT
BEGIN:STANDARD
TZOFFSETFROM:-0500
TZOFFSETTO:-0600
TZNAME:CST
DTSTART:20201101T070000
END:STANDARD
BEGIN:DAYLIGHT
TZOFFSETFROM:-0600
TZOFFSETTO:-0500
TZNAME:CDT
DTSTART:20210314T080000
END:DAYLIGHT
BEGIN:STANDARD
TZOFFSETFROM:-0500
TZOFFSETTO:-0600
TZNAME:CST
DTSTART:20211107T070000
END:STANDARD
END:VTIMEZONE
BEGIN:VEVENT
DTSTART;VALUE=DATE:20200416
DTEND;VALUE=DATE:20200420
DTSTAMP:20260424T190450
CREATED:20140702T174907Z
LAST-MODIFIED:20200317T013830Z
UID:3252-1586995200-1587340799@taichihealth.com
SUMMARY:TCF Certified Instructor and CMC Yang Short Form Retreat: Flyer with Details
DESCRIPTION:**NOTICE: Due to COVID-19 Tai Chi Health is postponing the Retreat. There will be an email with further updates as more information becomes available. \nDear Tai Chi Fundamentals® (TCF) Program Certified Instructors\, \n\n\n\nJoin us at our TCF Certified Instructor\, Advanced Certification\, and/or Cheng Man Ch’ing (CMC) Yang Short Form retreat opportunities. We hold these retreats biennially. April 16-20\, 2020  at Dekoven Center in Racine\, WI.   New: Commuter Options  \nClick here for online registration\nTCF Certified Instructors Retreat flyer 2020 \nCHENG MAN-CH’ING (CMC) YANG STYLE SHORT FORM RETREAT\nDates: Thursday noon  – Friday late afternoon. A  great opportunity to learn and/or review CMC Form and applications.\nExtended retreat Thursday noon  – Saturday morning.  Extra  overnight\, plus evening and morning classes\nInstructors: Patricia Culotti and Russ Mason\n \nMAIN EVENT: TCF CERTIFIED INSTRUCTORS RETREAT\nDates: Friday PM – Sunday afternoon\nOpportunities: Review Original TCF Form\, holding postures\, TCF Adapted Program  (TCFA) Basic Moves and Short Form\, all versions; teach a TCF or TCFA move in our feedback/discussion groups. Present a mini-course or show your stuff at the Share Fair. Practice push hands/sword (optional) at several opportunities throughout the retreat. Party! Talent show/skits on Saturday night! Bring your instruments and party supplies. 12 WPTA contact hours; keeps certification current for the next two years.\nInstructors:  Tricia Yu\, Patricia Culotti\, Advanced Certified Instructors \nTCF ADVANCED CERTIFICATION RETREAT\nDates:  Sunday PM- Monday noon.  Would you like to become a TCF Certification Testing Reviewer or Professional Training Instructor? This is the most thorough and cost-effective way to begin the process. Contact Tricia for details. 6 WPTA contact hours.\nInstructors:  Tricia Yu\, Patricia Culotti\, Advanced Certified Instructors \nThis is a residential retreat. Living in community allows us to immerse ourselves in our work and play\, optimizing our precious time together.We offer a range of registration options. Please be in touch with questions.I look forward to a memorable retreat with you. \n\n\n\nClick the file below for details of the 2020 retreat. Note: Online registration available January 5\, 2020 \nClick here for online registration\nTCF Certified Instructors Retreat flyer 2020 \n 
URL:https://taichihealth.com/event/tcf-retreat-2016-2-3/
LOCATION:The Dekoven Center\, 600 21st Street\, Racine\, WI\, 53189\, United States
CATEGORIES:Tai Chi Fundamentals®( TCF) Certified Instructor Retreat
END:VEVENT
BEGIN:VEVENT
DTSTART;VALUE=DATE:20200416
DTEND;VALUE=DATE:20200421
DTSTAMP:20260424T190450
CREATED:20140702T174907Z
LAST-MODIFIED:20200317T013925Z
UID:3248-1586995200-1587427199@taichihealth.com
SUMMARY:TCF Certified Instructor and Yang Style CMC Short Form Retreats: Save the Date
DESCRIPTION:**NOTICE: Due to COVID-19 Tai Chi Health is postponing the Retreat. There will be an email with further updates as more information becomes available. \nSAVE THE DATE:  April 16-20\, 2020 \nTai Chi Fundamentals® Certified Instructors and Cheng Man Ch’ing Lineage Yang Style Short Form  Retreats\n Dekoven Center Racine\, WI. \nSAVE THE DATES: TAI CHI HEALTH 2020 CMC AND TCF RETREATS PDF\n \n\n\n\nNEW: commuter options\nNEW: online registration \nClick here for online registration \nCHENG MAN-CH’ING (CMC) YANG STYLE SHORT FORM RETREAT:April 16-17\,2020\nDates: Thursday – Friday afternoon. A  great opportunity to learn and/or review CMC Form and applications.\nInstructors: Patricia Culotti and Russ Mason\n \nMAIN EVENT: TCF CERTIFIED INSTRUCTORS RETREAT\, April 17- 19\,2020\nDates: Friday PM – Sunday afternoon\nOpportunities: Review Original TCF Form\, TCF Adapted Program Basic Moves and Short Form\, all versions\, or teach a TCF Form move in our feedback/discussion groups. Present a mini-course or show your stuff at the Share Fair. Practice push hands/sword (optional) at several opportunities throughout the retreat. Party! Talent show/skits on Saturday night! Bring your instruments and party supplies. 12 WPTA contact hours; keeps certification current for the next two years.\nInstructors:  Patricia Culotti\, Tricia Yu and Advanced Certified Instructors \nTCF ADVANCED CERTIFICATION RETREAT\, April 19-20\,2020\nDates:  Sunday PM- Monday noon. Become a TCF Certification Reviewer or Training Instructor. This is the most thorough and cost-effective way to begin the process.. 6 WPTA contact hours.\nInstructors: Patricia Culotti\, Tricia Yu\, and Advanced Certified Instructors\n Registration Options: Residential and commuter options available. \n\n\n\nClick the file below to download and print a PDF with overview of 2020 retreat.  Full schedule and online registration available December 2019  \n SAVE THE DATES: TAI CHI HEALTH 2020 CMC AND TCF RETREATS PDF 
URL:https://taichihealth.com/event/tcf-retreat-2016-2-2/
LOCATION:The Dekoven Center\, 600 21st Street\, Racine\, WI\, 53189\, United States
CATEGORIES:Tai Chi Fundamentals®( TCF) Certified Instructor Retreat
END:VEVENT
END:VCALENDAR