BEGIN:VCALENDAR
VERSION:2.0
PRODID:-//Tai Chi Health - ECPv6.15.20//NONSGML v1.0//EN
CALSCALE:GREGORIAN
METHOD:PUBLISH
X-ORIGINAL-URL:https://taichihealth.com
X-WR-CALDESC:Events for Tai Chi Health
REFRESH-INTERVAL;VALUE=DURATION:PT1H
X-Robots-Tag:noindex
X-PUBLISHED-TTL:PT1H
BEGIN:VTIMEZONE
TZID:America/Chicago
BEGIN:DAYLIGHT
TZOFFSETFROM:-0600
TZOFFSETTO:-0500
TZNAME:CDT
DTSTART:20230312T080000
END:DAYLIGHT
BEGIN:STANDARD
TZOFFSETFROM:-0500
TZOFFSETTO:-0600
TZNAME:CST
DTSTART:20231105T070000
END:STANDARD
BEGIN:DAYLIGHT
TZOFFSETFROM:-0600
TZOFFSETTO:-0500
TZNAME:CDT
DTSTART:20240310T080000
END:DAYLIGHT
BEGIN:STANDARD
TZOFFSETFROM:-0500
TZOFFSETTO:-0600
TZNAME:CST
DTSTART:20241103T070000
END:STANDARD
BEGIN:DAYLIGHT
TZOFFSETFROM:-0600
TZOFFSETTO:-0500
TZNAME:CDT
DTSTART:20250309T080000
END:DAYLIGHT
BEGIN:STANDARD
TZOFFSETFROM:-0500
TZOFFSETTO:-0600
TZNAME:CST
DTSTART:20251102T070000
END:STANDARD
END:VTIMEZONE
BEGIN:VEVENT
DTSTART;TZID=America/Chicago:20240203T090000
DTEND;TZID=America/Chicago:20240203T163000
DTSTAMP:20260421T145536
CREATED:20240111T213819Z
LAST-MODIFIED:20240111T214608Z
UID:6084-1706950800-1706977800@taichihealth.com
SUMMARY:Tai Chi Prime Leader Training - 6 Hours
DESCRIPTION:Instructor: Rachel Sandretto or Patricia Culotti \nPrerequisite: Certification in the Tai Chi Fundamentals® Adapted Program (TCFA) \nThis training will be conducted remotely over Zoom. The times for the training are in Central Time. \nClick here to register for this training \nCourse Description: Prepares certified TCFA instructors to become leaders for the evidence-based Tai Chi Prime class series featuring instruction in the TCFA Program (Optional Side Support version) and home practice coaching. Presents the curriculum and class format for teaching Tai Chi Prime participants Basic Moves\, TCF Short Form\, Mind/body skills\, and Everyday Qi Gong. Provides training in home practice coaching and leading group discussions. \nObjectives  \nAfter this training\, Tai Chi Prime Leaders will be able to: \n1. Outline the overall curriculum for Tai Chi Prime classes\n2. Plan Tai Chi Primes classes and manage class time to maintain program fidelity\n3. Explain the results of published research on Tai Chi Prime\n4. Facilitate and model home practice planning and coaching activities\n5. Lead and manage group discussions \nCompleting this Leader Training certifies participants as Tai Chi Prime Leaders. \nApplications \nTai Chi Prime classes can be taught through healthcare community outreach and other community-based wellness classes\, VA settings\, senior centers\, health clubs\, and assisted living. For: wellness\, balance\, pain management\, MS\, Parkinson’s\, neurological and autoimmune conditions\, cancer\, PTSD\, TBI\, and cardiovascular and respiratory diseases. \n Development Supported by: Grants from the Institute for Clinical and Translational Research at University of Wisconsin-Madison\, 2015-19. \n  \n 
URL:https://taichihealth.com/event/tai-chi-prime-leader-training-6-hours/
LOCATION:Remote Training
CATEGORIES:TAI CHI PRIME LEADER TRAINING
ORGANIZER;CN="Rachel Sandretto":MAILTO:taichihealth.rs@gmail.com
END:VEVENT
END:VCALENDAR